Workbook
Name インフラ: テーブル34[インフラ]
Name インフラ: テーブル34[インフラ]
Name インフラ: テーブル34[インフラ]
Name インフラ: テーブル34[インフラ]
Name インフラ: テーブル34[インフラ]
Name インフラ: テーブル34[インフラ]
Name インフラ: テーブル34[インフラ]
Name インフラ: [1]!テーブル34[インフラ]
Name インフラ: テーブル34[インフラ]
Name インフラ: テーブル34[インフラ]
Name インフラ: テーブル34[インフラ]
Name インフラ: テーブル34[インフラ]
Name インフラ: テーブル34[インフラ]
Name インフラ: テーブル34[インフラ]
Name インフラ: テーブル34[インフラ]
Name インフラ: テーブル34[インフラ]
Name インフラ: テーブル34[インフラ]
Name その他: テーブル38[その他]
Name その他: テーブル38[その他]
Name その他: テーブル38[その他]
Name その他: テーブル38[その他]
Name その他: テーブル38[その他]
Name その他: テーブル38[その他]
Name その他: テーブル38[その他]
Name その他: [1]!テーブル38[その他]
Name その他: テーブル38[その他]
Name その他: テーブル38[その他]
Name その他: テーブル38[その他]
Name その他: テーブル38[その他]
Name その他: テーブル38[その他]
Name その他: テーブル38[その他]
Name その他: テーブル38[その他]
Name その他: テーブル38[その他]
Name その他: テーブル38[その他]
Name 資源: '資源リスト(印刷対象外)'!$B$2:$H$2
Name 資源_インフラ: テーブル11[資源_インフラ]
Name 資源_インフラ: テーブル11[資源_インフラ]
Name 資源_インフラ: テーブル11[資源_インフラ]
Name 資源_インフラ: テーブル11[資源_インフラ]
Name 資源_インフラ: テーブル11[資源_インフラ]
Name 資源_インフラ: テーブル11[資源_インフラ]
Name 資源_インフラ: テーブル11[資源_インフラ]
Name 資源_インフラ: [1]!テーブル11[資源_インフラ]
Name 資源_インフラ: テーブル11[資源_インフラ]
Name 資源_インフラ: テーブル11[資源_インフラ]
Name 資源_インフラ: テーブル11[資源_インフラ]
Name 資源_インフラ: テーブル11[資源_インフラ]
Name 資源_インフラ: テーブル11[資源_インフラ]
Name 資源_インフラ: テーブル11[資源_インフラ]
Name 資源_インフラ: テーブル11[資源_インフラ]
Name 資源_インフラ: テーブル11[資源_インフラ]
Name 資源_インフラ: テーブル11[資源_インフラ]
Name 資源_データ: テーブル17[資源_データ]
Name 資源_データ: テーブル17[資源_データ]
Name 資源_データ: テーブル17[資源_データ]
Name 資源_データ: テーブル17[資源_データ]
Name 資源_データ: テーブル17[資源_データ]
Name 資源_データ: テーブル17[資源_データ]
Name 資源_データ: テーブル17[資源_データ]
Name 資源_データ: [1]!テーブル17[資源_データ]

Sheet コントロールシート旧
B1: 入力順
C2: 「練馬区保育事業所向け事業継続計画コントロールシート」 | R2: 入力欄の凡例 | AF2: 自由記入
T3: 入力必須 | AF3: 自動入力（入力しないでください）
T4: 該当する場合入力 | AF4: 入力不要
D6: 「使用上の注意」 ①このエクセルは、中国地方整備局地域建設業事業継続計画（以下BCPと呼ぶ）作成支援ツールです。再配布はお控えください。 ②本ツールは、地域建設業の事業継続計画を普及させるための無料の支援ツールです。そのため、本ツール利用による損害等や計画した内容に関する損害等の責任は負いかねます。 ③本ツールは、令和7年時点の災害の教訓等の最新の知見に基づいて作成しています。法改正等に伴い必要に応じて修正をしてください。 ④様式集には、「コントロールシート」、「表紙、目次、Ｐ.１～Ｐ.１３」の頁があります。 コントロールシートは各施設における事業継続計画の必要記載事項を記入するワークシートです。 コントロールシートに必要記載事項を記入すると、記載事項が「表紙、目次、Ｐ.１～Ｐ.１３」に反映され、各施設の事業継続計画となります。 ⑤入力にあたっては、「災害時における中国地方地域建設業の事業継続計画作成解説書（第7版）」を参照しながら、 コントロールシートの「作成者入力欄」に、施設の状況を確認し、必要記載事項を入力してください。 ⑥印刷時はエクセルの「表紙、目次、Ｐ.１～Ｐ.１３」頁を対象に、施設が該当する頁に対して印刷を行ってください。 ⑦作成者のBCPへの理解向上を考慮して、目次構成とコントロールシートへの入力順が異なっている項目があります。 ⑧本ツールの著作権は、国土交通省中国地方整備局が保有しております。HPなどに無断で掲載することを禁止します。
D11: 上記使用上の注意をご理解頂いた場合は、下記プルで「使用上の注意を理解したうえで、利用します」を選択してください。
D12: 使用上の注意を理解したうえで、利用します | AL12: 使用上の注意を読んでいません。 | AO12: =+IF(D12=AL12,1) -> FALSE
AL13: 使用上の注意を理解したうえで、利用します
D14: 使用上の注意に同意した場合に以下に入力に必要なフォームが表示されます。表示されない場合は、使用上の注意を一読いただき、上記赤いセルの「使用上の注意を理解したうえで、利用します」を選択してください。選択すると文字が表示されます。
D17: BCP策定が功を奏した事例 | T17: BCPを策定していなかったことにより問題が発生した事例
D18: 約48時間に及ぶ長期停電の被害を受けたが、直前に実施した訓練が功を奏し、自家発電でパソコン等への給電を行い、安否確認など、必要最低限の災害対応を続けることができた。 | T18: 災害時の連絡用に職員の電話番号は控えていたが、家屋全壊となった職員とは電話では連絡できなかった。
D19: BCPで近隣園に保育業務の協力等を依頼することを決めていたおかげで、被災直後も一時避難所を運営しながら段階的な保育業務を再開することができた。 | T19: 被災直後は園の復旧作業に追われ、一時避難所としての運営業務も発生して混乱に陥ったため、保育業務の再開に時間がかかった。
C21: 作成者入力欄 ※各施設にて、ご確認の上、ご記入ください。
D23: ●施設が位置する市町を選んでください。
P25: ※プルダウンで所在自治体を選んでください。
B27: ① | C27: 表紙
AL28: FALSE
D29: 企業名：
H30: 年 | K30: 月 作成
B32: ② | C32: 様式Ａ－１－１（必須） 計画策定の意義・目的 | AJ32: P.１
D33: 計画の目的の記載例を以下に示しています。内容をご確認いただき、問題がなければ、チェックボックスにチェックを入れてください。 独自に目的を定める場合は、記入欄に記入してください。
F34: 大規模な地震が発生した場合、会社の施設や従業員及びその家族が被害を受け、当社の事業活動に大きな影響が及ぶことが予想される。 災害時には、重要業務の継続および万一中断した場合の早期復旧のために、平常時より事業継続に関する準備が必要となる。 当社では、重要業務を継続し、公共インフラおよび民間施主の復旧工事を通じて、経済･社会活動の早期復旧に協力するとともに、国および地方公共団体、民間施主の事業継続に貢献することを目指す。
E35: チェック | F35: ①社員、その家族の生命・身体の安全確保に全力をつくす
E36: チェック | F36: ②会社施設等の被害の最小化に努める
E37: チェック | F37: ③救援活動・復旧活動に全面的に協力する
E38: チェック | F38: ④施工中の建物の倒壊などによる近隣地域への二次災害の発生を防止し、地域の 方々の安全確保を図る
E39: チェック | F39: ⑤当社施工物件の被害状況を迅速に把握し、お客様の事業継続に向けた応急措置 および適切な復旧活動に協力する
E40: チェック | F40: ⑥災害などのリスクに強い企業となることを目指し、事業継続計画を定期的に見 直し、改善する
E41: ＜独自に定める場合＞
B44: ③ | C44: 様式Ａ－１－２（必須） 計画策定の検討体制 | AJ44: P.１
D45: 計画の基本方針の記載例を以下に示しています。内容をご確認いただき、問題がなければ、チェックボックスにチェックを入れてください。 独自に基本方針を定める場合は、記入欄に記入してください。 | AL45: TRUE
F46: 役割 | O46: 所属 | R46: 役職 | U46: 氏名 | AA46: サイン
F47: 総括
F48: Ａ 重要業務の選定と目標時間の把握
F49: Ｂ 災害時の対応体制 | AL49: FALSE
F50: Ｃ 対応拠点の確保 | AL50: FALSE
F51: Ｄ 情報発信・情報共有
F52: Ｅ 人員と資機材の調達
F53: Ｆ 訓練計画と定期点検計画
B56: ④ | C56: １-３ BCPの基本方針 計画の適用範囲 | AJ56: P.１
...

Sheet コントロールシート（例示あり）
B2: 様式Ａ－１－１（必須） 計画策定の意義・目的
B3: 計画策定の意義・目的
B6: 様式Ａ－１－２（必須） 計画策定の検討体制
B7: 役割 | H7: 所属 | K7: 役職 | N7: 氏名 | Q7: サイン
B8: 総括
B9: Ａ重要業務の選定と目標時間の把握
B10: Ｂ災害時の対応体制
B11: Ｃ対応拠点の確保
B12: Ｄ情報発信・情報共有
B13: Ｅ人員と資機材の調達
B14: Ｆ訓練計画と定期点検計画
B17: 様式Ａ―２―１（必須） 社員への周知方法
B18: 社員への周知方法 | J18: 媒体 | M18: 実施年月日
B28: 様式Ｂ－１－１（必須） 自社の地域で懸念されている災害の一覧整理
B29: リスクの 種類 | D29: 説明 (対応拠点での被害規模) | I29: 懸念される本社･支店、 現場事務所等の被害 | N29: 懸念される被害の種類 | S29: 被害の概要及び程度 | X29: 対応の 優先順位 | Z29: 事業継続の対象 とする災害
B30: 地震A | D30: ○○断層帯地震(震度○強)
B31: 地震B | D31: ○○断層帯地震(震度○強)
B32: 高潮 | D32: 高潮発生(水深○m～○m)
B33: 大規模 土砂災害 | D33: 土砂災害発生 (土砂崩れ発生)
B34: 大規模 水害 | D34: ○○水系○○川で破堤による洪水はん濫発生(水深○m～○m)
B35: 大規模 積雪 | D35: ○○地域で大規模な積雪発生(積雪○m以上)
B36: ・・・ | D36: ・・・
B37: 感染症 | D37: ―
B38: 事業継続の対象とする災害の設定
C39: ① 懸念される災害すべてについての被害想定の根拠資料（ハザードマップ等）が必要です。
C40: ②『２－１ 想定被害による自社への影響』を参考に、自社地域で事業継続の対象とする災害を選定し、検討経緯・選定理由を記載します。
B57: 様式Ｂ－１－１補足資料１（必須） 自社関連施設の位置図
B60: 様式Ｂ－１－１補足資料２（重要）自社の地域で懸念されている被害
B61: リスクの種類 | D61: 対象施設 | I61: 外力（震度、水深等） | N61: 被害想定 | S61: 懸念される被害の種類 | X61: 備考
B62: 地震Ａ(○○断層帯地震） | D62: 対応拠点（本社ビル）
D63: 代替対応拠点１
D64: 代替対応拠点２
D65: 道路
D66: 鉄道
D67: 周辺施設
D68: ・・・
B71: 様式Ｂ－１－２（重要） 建物の耐震性に関する状況把握
B72: 対象施設 | E72: 施設名称 | H72: 構造･階数 | K72: 建築時期 | N72: Ｓ56年6月以前か | Q72: 耐震診断・補強の有無 | T72: 目視による異常 | W72: 耐震性診断・工事の予定・検討の状況
B73: 対応拠点
B74: 自社関連施設
...

Sheet 頭紙
C2: 中国地方における地域建設業の事業継続計画認定 資料作成ツール
D4: 【使用上の注意】 ① このエクセルは、中国地方整備局地域建設業事業継続計画（以下BCPと呼ぶ）作成支援ツールです。再配布はお控えください。 ② 本ツールは、地域建設業の事業継続計画を普及させるための無料の支援ツールです。そのため、本ツール利用による損害等や計画した内容に関する損害等の責任は負いかねます。 ③ 本ツールは、令和8年時点の災害の教訓等の最新の知見に基づいて作成しています。法改正等に伴い必要に応じて修正をしてください。 ④ 提出時・印刷時は本ツールの【印刷対象】以降のシートを対象に印刷を行ってください。 ⑤ 本ツールの著作権は、国土交通省中国地方整備局が保有しております。HPなどへの無断掲載は禁止します。 ⑥ 本ツールの使用は任意です。これまで通りの形式で提出することも可能です。 【作成方法】 ① Excel内の次の5つのシート【自社拠点】【名簿】【取引先】【現場】【訓練実施記録】を記入します。 ② 【携行カード】の入力は任意ですが、社員一人一人の防災意識の向上に資するため、作成を推奨します。 ③ 次に、【記入シート】内の必要なセルを記入します。 入力必須のセル/入力が望ましいセルに着色しています。入力が望ましいセルへの記入は任意ですが、記入することでよりよいBCPになります。 ※着色していないセルには入力しないでください。 ④ 必要記載事項を記入すると、【★印刷対象】以降の全シートに反映され、BCPの完成となります。 ⑤ 入力にあたっては、「災害時における中国地方地域建設業の事業継続計画作成解説書（第8版）」を参照しながら、 【記入シート】の「作成者入力欄」に、施設の状況を確認し、必要記載事項を入力してください。

Sheet 自社拠点
B1: 【必須】本社の情報、ならびに資機材置き場、支社等、自社拠点となる場所を記載してください。 | H1: 自動記入先項目 B-1-3 D-1-1、D-1-2
B2: No | C2: 拠点名 (B-1-3) (D-1-1) | D2: 住所 | E2: 固定電話 | F2: FAX | G2: 電子メール | H2: 携帯番号 | I2: 携帯メール | J2: SMS（ショートメッセージ） | K2: SNS（X（旧Twitter）など）
B3: 記載例 | C3: （例）本社 | D3: 山口市本社1-1-1 | E3: 000-xxx-xxxx | F3: 000-xxx-xxxx | G3: ○○○@honsya.com | H3: 090-XXXX-XXXX | I3: ×××@keitai.com | J3: 090-XXXX-XXXX
B5: 1
B6: 2
B7: 3
B8: 4
B9: 5
B10: 6
B11: 7
B12: 8
B13: 9
B14: 10
B15: 11
B16: 12
... B104: 100

Sheet 名簿
B1: 【必須】所属する社員（アルバイト・パート等を含む）の情報を、説明に沿って記入してください。 ※設定のない項目は空欄で構いません。 | S1: 「安否確認班」の班長・班長代理は、徒歩での参集時間が120分以内の方を設定してください。 （120分以上の方を設定すると、文字とセルが赤くなります）
B2: No | C2: 氏名 | D2: 所属部署 | E2: 役職 | F2: 社用携帯番号 | G2: 社用携帯メール | H2: 自宅住所 | I2: 自宅TEL | J2: 個人携帯TEL | K2: 自宅メール | L2: 個人携帯メール | M2: 参集場所 | N2: 自宅⇒ 参集場所の距離 | O2: 自宅⇒参集場所 ※徒歩での移動時間 | P2: 自宅⇒参集場所 ※自転車での移動時間 | Q2: C-2-2 | R2: C-2-22 | S2: 災害発生時の 体制 | T2: 班長 | U2: 班長代理①②③を選択
B3: 説明 | C3: 社員の氏名を記入ください。 | D3: 所属部署を 記入ください。 | E3: 役職を記入ください。 | F3: 社用携帯の電話番号を記入ください。 | G3: 社用携帯のメールアドレスを記入ください。 | H3: 住所を記入ください。 | I3: 自宅の電話番号を記入ください。 | J3: 個人携帯の電話番号を記入ください。 | K3: 自宅のメールアドレスを記入ください。 | L3: 個人携帯のメールアドレスを記入ください。 | M3: 災害が発生した際に参集する場所を設定してください。 | N3: 自宅から参集場所の距離を記入して ください。（km） | O3: 自宅から参集場所に行く際の徒歩での所要時間を記入してください。（2km/h） 単位：分 | P3: 自宅から参集場所に行く際の自転車での所要時間を記入してください。（6km/h） 単位：分 | Q3: =テーブル2[[#This Row],[災害発生時の 体制]]&テーブル2[[#This Row],[班長]]&テーブル2[[#This Row],[班長代理①②③を選択]] -> 災害発生時に担当する班を設定してください。 （各班の説明は「記入シート C-2-1に記載しています。）班長は「○」を付けてください。 （班長は1人のみ設定してください。）各班で班長の代理を3人決定してください。 候補が高い順で①②③を選択ください。 | R3: =テーブル2[[#This Row],[氏名]] -> 社員の氏名を記入ください。 | S3: 災害発生時に担当する班を設定してください。 （各班の説明は「記入シート C-2-1に記載しています。） | T3: 班長は「○」を付けてください。 （班長は1人のみ設定してください。） | U3: 各班で班長の代理を3人決定してください。 候補が高い順で①②③を選択ください。
B4: 記載例 | C4: （例）建設 一夫 | D4: （例）土木部 | E4: （例）主任 | F4: 090-××××-×××× | G4: △△△△@××.com | H4: 岡山市北区●町1-1-1 | I4: 000-xxx-xxxx | J4: 090-xxxx-xxxx | K4: ×××××@××.com | L4: ×××××@××.com | M4: 本社 | N4: 0km | O4: 0 | P4: 0 | Q4: =テーブル2[[#This Row],[災害発生時の 体制]]&テーブル2[[#This Row],[班長]]&テーブル2[[#This Row],[班長代理①②③を選択]] -> （例）災害対策本部 | R4: =テーブル2[[#This Row],[氏名]] -> （例）建設 一夫 | S4: （例）災害対策本部 | W4: 役割班（グループ） (B-3-1補足) (C-2-2) | X4: 担当業務
Q5: =テーブル2[[#This Row],[災害発生時の 体制]]&テーブル2[[#This Row],[班長]]&テーブル2[[#This Row],[班長代理①②③を選択]] | R5: =テーブル2[[#This Row],[氏名]] -> 0
B6: 1 | Q6: =テーブル2[[#This Row],[災害発生時の 体制]]&テーブル2[[#This Row],[班長]]&テーブル2[[#This Row],[班長代理①②③を選択]] | R6: =テーブル2[[#This Row],[氏名]] -> 0 | W6: 災害対策本部 | X6: 全体の統括を実施。各班の情報の統制
B7: 2 | Q7: =テーブル2[[#This Row],[災害発生時の 体制]]&テーブル2[[#This Row],[班長]]&テーブル2[[#This Row],[班長代理①②③を選択]] | R7: =テーブル2[[#This Row],[氏名]] -> 0 | W7: 対外班 | X7: 取引先に対する連絡や、物資等の支援の窓口
B8: 3 | Q8: =テーブル2[[#This Row],[災害発生時の 体制]]&テーブル2[[#This Row],[班長]]&テーブル2[[#This Row],[班長代理①②③を選択]] | R8: =テーブル2[[#This Row],[氏名]] -> 0 | W8: 安否確認班 | X8: 社員の安否確認・連絡
B9: 4 | Q9: =テーブル2[[#This Row],[災害発生時の 体制]]&テーブル2[[#This Row],[班長]]&テーブル2[[#This Row],[班長代理①②③を選択]] | R9: =テーブル2[[#This Row],[氏名]] -> 0 | W9: 設備班 | X9: 自社や活動拠点の設備上の点検箇所の確認
B10: 5 | Q10: =テーブル2[[#This Row],[災害発生時の 体制]]&テーブル2[[#This Row],[班長]]&テーブル2[[#This Row],[班長代理①②③を選択]] | R10: =テーブル2[[#This Row],[氏名]] -> 0 | W10: 救護班 | X10: 社員の怪我等の処置・トリアージの実施
B11: 6 | Q11: =テーブル2[[#This Row],[災害発生時の 体制]]&テーブル2[[#This Row],[班長]]&テーブル2[[#This Row],[班長代理①②③を選択]] | R11: =テーブル2[[#This Row],[氏名]] -> 0
B12: 7 | Q12: =テーブル2[[#This Row],[災害発生時の 体制]]&テーブル2[[#This Row],[班長]]&テーブル2[[#This Row],[班長代理①②③を選択]] | R12: =テーブル2[[#This Row],[氏名]] -> 0
B13: 8 | Q13: =テーブル2[[#This Row],[災害発生時の 体制]]&テーブル2[[#This Row],[班長]]&テーブル2[[#This Row],[班長代理①②③を選択]] | R13: =テーブル2[[#This Row],[氏名]] -> 0
B14: 9 | Q14: =テーブル2[[#This Row],[災害発生時の 体制]]&テーブル2[[#This Row],[班長]]&テーブル2[[#This Row],[班長代理①②③を選択]] | R14: =テーブル2[[#This Row],[氏名]] -> 0
B15: 10 | Q15: =テーブル2[[#This Row],[災害発生時の 体制]]&テーブル2[[#This Row],[班長]]&テーブル2[[#This Row],[班長代理①②③を選択]] | R15: =テーブル2[[#This Row],[氏名]] -> 0
B16: 11 | Q16: =テーブル2[[#This Row],[災害発生時の 体制]]&テーブル2[[#This Row],[班長]]&テーブル2[[#This Row],[班長代理①②③を選択]] | R16: =テーブル2[[#This Row],[氏名]] -> 0
B17: 12 | Q17: =テーブル2[[#This Row],[災害発生時の 体制]]&テーブル2[[#This Row],[班長]]&テーブル2[[#This Row],[班長代理①②③を選択]] | R17: =テーブル2[[#This Row],[氏名]] -> 0
B18: 13 | Q18: =テーブル2[[#This Row],[災害発生時の 体制]]&テーブル2[[#This Row],[班長]]&テーブル2[[#This Row],[班長代理①②③を選択]] | R18: =テーブル2[[#This Row],[氏名]] -> 0
B19: 14 | Q19: =テーブル2[[#This Row],[災害発生時の 体制]]&テーブル2[[#This Row],[班長]]&テーブル2[[#This Row],[班長代理①②③を選択]] | R19: =テーブル2[[#This Row],[氏名]] -> 0
B20: 15 | Q20: =テーブル2[[#This Row],[災害発生時の 体制]]&テーブル2[[#This Row],[班長]]&テーブル2[[#This Row],[班長代理①②③を選択]] | R20: =テーブル2[[#This Row],[氏名]] -> 0
B21: 16 | Q21: =テーブル2[[#This Row],[災害発生時の 体制]]&テーブル2[[#This Row],[班長]]&テーブル2[[#This Row],[班長代理①②③を選択]] | R21: =テーブル2[[#This Row],[氏名]] -> 0
B22: 17 | Q22: =テーブル2[[#This Row],[災害発生時の 体制]]&テーブル2[[#This Row],[班長]]&テーブル2[[#This Row],[班長代理①②③を選択]] | R22: =テーブル2[[#This Row],[氏名]] -> 0
... B1005: 1000 | Q1005: =テーブル2[[#This Row],[災害発生時の 体制]]&テーブル2[[#This Row],[班長]]&テーブル2[[#This Row],[班長代理①②③を選択]] | R1005: =テーブル2[[#This Row],[氏名]] -> 0

Sheet 取引先
B1: 災害発生後、取引先や燃料等の調達先などを明記しておくことは重要です。取引先の情報を記載してください。 （取引先とは、「発注元」「調達先」すべての取引先を含みます。） ※設定のない項目は空欄で構いません。 | M1: 自動記入先項目 E-1-1
B2: No | C2: 取引先 | D2: 住所 | E2: 所属部署 | F2: 担当者 | G2: 担当者（代理） | H2: TEL | I2: FAX | J2: 電子メール | K2: 携帯番号 | L2: 携帯メール | M2: SNS（X（旧Twitter）など） | N2: 自社担当者 | O2: 自社代理担当者
B3: 記載例 | C3: ○○株式会社 | D3: 宇部市上条２ | E3: 設計部 | F3: 設計 一郎 | G3: 施工 次郎 | H3: 000-xxx-xxxx | I3: 000-xxx-xxxx | J3: marumaru@mail.com | K3: 090-xxxx-xxxx | L3: marukeitai@mail.com | M3: - | N3: 現場 一郎 | O3: 建築 花子
B5: 1
B6: 2
B7: 3
B8: 4
B9: 5
B10: 6
B11: 7
B12: 8
B13: 9
B14: 10
B15: 11
B16: 12
... B504: 500

Sheet 現場
B1: 【必須】現在、関連している建設・工事現場等の全ての現場情報を記載してください。 | K1: 自動記入先項目 B-3-1 E-1-2
B2: No | C2: 現場名 (B-3-1 補足) (E-1-2 重要) | D2: 現場住所（概略） | E2: 発注元 | F2: 工期１（自） （西暦/月/日） | G2: 工期２（至） （西暦/月/日） | H2: 自社担当者 | I2: 自社担当者 （代理） | J2: 相手先担当者 | K2: 相手先担当者連絡先 | L2: 相手先担当者 （代理） | M2: 相手先担当者 （代理）連絡先
B3: 記載例 | C3: ○○ビル解体工事 | D3: 宇部市上条２ | E3: ○○株式会社 | F3: 45658 | G3: 45838 | H3: 現場 一郎 | I3: 建築 次夫 | J3: 例 太郎 | K3: 090-xxxx-xxxx | L3: 例 花子 | M3: 090-xxxx-xxxx
B5: 1
B6: 2
B7: 3
B8: 4
B9: 5
B10: 6
B11: 7
B12: 8
B13: 9
B14: 10
B15: 11
B16: 12
... B1004: 1000

Sheet 訓練実施記録 
B1: 実施した訓練結果の情報を記載してください。 ※必ず毎年1度は訓練を実施してください。避難・誘導訓練、安否確認訓練、実施参集訓練の実施は必須となっています。 ※訓練名称は別途設定していただいても構いません。 ※各訓練同日開催でも構いません。 | I1: 自動記入先項目 G-1-1 H-1-1、H-1-2
B2: No | C2: 訓練名称 | D2: 実施予定時期 | E2: 実施日時 | F2: 実施場所 | G2: 参加者 | H2: 訓練目的 | I2: 想定災害 | J2: 訓練内容 | K2: 訓練結果 (計画達成状況・発見できた課題) | L2: 改善点、所感等 | M2: 次回の訓練計画 (改善点を踏まえて立案) | N2: 実施できなかった理由 （実施できなかった場合記入）
B3: 記載例 | C3: 実施参集訓練 | D3: 毎年７月 | E3: 45474 | F3: 本社 | G3: 災害対策本部の要員 | H3: 災害対応に必要な要員が確実に拠点へ参集できるかを確認する。 | I3: 令和7年7月2日10:00 豪雨が発生し、大雨特別警報が発表される。 | J3: 災害対策本部員の各自宅から本社までの道のりを確認 | K3: 道のりの確認を行うことができた。○○～□□間で道幅の狭い道が多くあり、車を使用できないことが分かった。 | L3: 定期的にルートの確認を行い、各社員が参集できるかを認識しておくべきだと感じた | M3: 災害対策本部だけではなく各班班長・副班長も参加する
C4: 避難・誘導訓練 兼消防訓練 | D4: 毎年５月 | E4: 45413 | F4: 本社・AB支社 | G4: 全社員 | H4: 担当者が、優先順位に従ってスムーズに避難誘導できるか | I4: 令和7年7月2日PM2:00 に支社にて火災が発生する。 | J4: 近くのグラウンド（支社は駐車場）に避難し点呼 | K4: 全員が５分以内に避難完了できた | L4: 避難時に出入り口付近で渋滞が起こった | M4: 避難導線を確認する。現場で参加できなかった社員も含めて実施する
C5: 安否確認訓練 | D5: 毎年１１月 | E5: 45626 | F5: 各自宅 | G5: 全社員、パート・アルバイト | H5: ・安否確認手段（安否確認を行うシステム等）の確認 ・夜間での安否の確認 | I5: 令和8年7月1日19:00 に震度5強の地震が発生。津波が襲来する。 | J5: ・メールを使用 ・自身の安否・明日の出勤可否・家族の安否を確認 | K5: 2時間以内に100％の安否を確認することができた。 | L5: ２時間近く通知に気付かなかった社員がいたため、出勤していない時間帯での安否確認の難しさを感じた | M5: LINEWORKSを導入し訓練を行う
B6: 1
B9: 2
B10: 2
B11: 2
B12: 3
B13: 3
B14: 3

Sheet 携行カード
B2: 様式Ｃ－１－３（重要） 各社員への周知
B3: この「携行カード」は、災害時に備え、社員一人一人が常に携帯しておくものです。できれば、ポケットに入るサイズで作成し常時携帯させるように指導することも有効です。
G5: 【表面】 | U5: 【裏面】
B6: 会社名：
B7: 携行カード
B8: ※このカードを拾得された方は下記までご連絡ください。 | O8: 連絡先（電話番号、携帯電話、携帯メール）
B9: 所在地： | O9: 自宅電話番号
B10: 電話： | O10: 家族①
B11: FAX： | O11: 家族②
B12: メール： | O12: 家族③
O13: 地域外に住む親戚
B15: 緊急時の行動
O17: 社長
B18: 地震
O22: 上司
B27: 風水害 | O27: 社内緊急連絡網の連絡相手
O33: 社内緊急連絡網の上記不在時の相手
B36: 火災
O39: 重要取引先①
O45: 重要取引先②
B47: 本人情報
B48: 氏名 | O48: 重要取引先③
B49: 血液型 | O49: 災害時伝言ダイヤル
B50: 持病・アレルギー
B51: かかりつけ医師
B52: 終業時の退避場所
B53: 自宅近くの退避場所

Sheet 同様の記載箇所
A1: NO. | B1: 章節 | C1: 内容 | D1: コメント
A2: 1 | B2: B-1-1、B-1-1補足資料2 | C2: 自社の地域で懸念されている災害の一覧整理 | D2: 対象施設の被害想定等、重複して書く欄がある
A3: 2 | B3: C-1-2、C-2-2 | C3: 社内の連絡体制表、指揮命令図 | D3: 住所、電話番号等を重複して書く必要がある
A4: 3 | B4: E-1-2、C-1-2 | C4: 施工中現場の連絡先リスト | D4: 電話番号等を重複して書く必要がある
A5: 4 | B5: C-2-1、D-1-1、D-1-2 | C5: 対応拠点、代替対応拠点 | D5: 住所、電話番号等を重複して書く必要がある
A6: 5 | B6: H-1-1、H-1-2 | C6: 訓練記録 | D6: 訓練日を重複して書く必要がある
A7: 6 | B7: H-2-1、H-3-1 | C7: 様式の更新履歴、事業継続計画の改定履歴 | D7: 改訂年月日、更新（改訂）内容を重複して書く必要がある
B11: B-1-1、B-1-1補足資料2 | C11: 自社の地域で懸念されている災害の一覧整理 | D11: ネットで調べることが必要
B12: B-1-3 | C12: ライフラインの被害想定 | D12: ネットで調べることが必要
B13: B-3-1補足資料 | C13: 重要業務の目標時間の検討 | D13: ネットで調べることが必要（距離）
B14: C-2-3 | C14: 避難・誘導方法 | D14: ネットで調べることが必要（避難経路）

Sheet ワークシート
B1: 入力順
C2: 「練馬区保育事業所向け事業継続計画ワークシート」 | R2: 入力欄の凡例 | AF2: 自由記入
T3: 入力必須 | AF3: 自動入力（入力しないでください）
T4: 該当する場合入力 | AF4: 入力不要
D6: 「使用上の注意」 ①このエクセルは、2025年7月に練馬区で開催した保育事業所向け講習会で配布した事業継続計画（以下BCPと呼ぶ）作成支援ツールです。再配布はお控えください。 ②本ツールは、事業継続計画を普及させるための無料の支援ツールです。そのため、本ツール利用による損害等や計画した内容に関する損害等の責任は負いかねます。 ③本支援ツールは、令和4年時点の災害の教訓等の最新の知見に基づいて作成しています。法改正等に伴い必要に応じて修正をしてください。 ④様式集には、「コントロールシート」、「表紙、目次、Ｐ.１～Ｐ.１３」の頁があります。 コントロールシートは各施設における事業継続計画の必要記載事項を記入するワークシートです。 コントロールシートに必要記載事項を記入すると、記載事項が「表紙、目次、Ｐ.１～Ｐ.１３」に反映され、各施設の事業継続計画となります。 ⑤入力にあたっては、別添「事業継続計画作成の手引き（案）」を参照しながら、 コントロールシートの「作成者入力欄」に、施設の状況を確認し、必要記載事項を入力してください。 ⑥印刷時はエクセルの「表紙、目次、Ｐ.１～Ｐ.１３」頁を対象に、施設が該当する頁に対して印刷を行ってください。 ⑦作成者のBCPへの理解向上を考慮して、目次構成とコントロールシートへの入力順が異なっている項目があります。 ⑧本ツールの著作権は、練馬区が保有しております。HPなどに無断で掲載することを禁止します。
D11: 上記使用上の注意をご理解頂いた場合は、下記プルで「使用上の注意を理解したうえで、利用します」を選択してください。
D12: 使用上の注意を理解したうえで、利用します | AL12: 使用上の注意を読んでいません。 | AO12: =+IF(D12=AL12,1) -> FALSE
AL13: 使用上の注意を理解したうえで、利用します
D14: 使用上の注意に同意した場合に以下に入力に必要なフォームが表示されます。表示されない場合は、使用上の注意を一読いただき、上記赤いセルの「使用上の注意を理解したうえで、利用します」を選択してください。選択すると文字が表示されます。
D17: BCP策定が功を奏した事例 | T17: BCPを策定していなかったことにより問題が発生した事例
D18: 約48時間に及ぶ長期停電の被害を受けたが、直前に実施した訓練が功を奏し、自家発電でパソコン等への給電を行い、安否確認など、必要最低限の災害対応を続けることができた。 | T18: 災害時の連絡用に職員の電話番号は控えていたが、家屋全壊となった職員とは電話では連絡できなかった。
D19: BCPで近隣園に保育業務の協力等を依頼することを決めていたおかげで、被災直後も一時避難所を運営しながら段階的な保育業務を再開することができた。 | T19: 被災直後は園の復旧作業に追われ、一時避難所としての運営業務も発生して混乱に陥ったため、保育業務の再開に時間がかかった。
C21: 作成者入力欄 ※各施設にて、ご確認の上、ご記入ください。
D23: ●施設が位置する市町を選んでください。
F25: 練馬区 | P25: ※プルダウンで所在自治体を選んでください。
B27: ① | C27: 表紙
D29: 企業名：
H30: 年 | K30: 月 作成
B32: ② | C32: １-１ BCPの基本方針 計画の目的 | AJ32: P.１
D33: 計画の目的の記載例を以下に示しています。内容をご確認いただき、問題がなければ、チェックボックスにチェックを入れてください。 独自に目的を定める場合は、記入欄に記入してください。
F34: 本計画は、緊急事態（地震の発生等）においても、従業員及びその家族の安全を確保しながら自施設の事業を継続することを目的として策定したものである。 | AL34: FALSE
E35: ＜独自に定める場合＞
B38: ③ | C38: １-２．BCPの基本方針 計画の基本方針 | AJ38: P.１
D39: 計画の基本方針の記載例を以下に示しています。内容をご確認いただき、問題がなければ、チェックボックスにチェックを入れてください。 独自に基本方針を定める場合は、記入欄に記入してください。
F40: 人命（職員・園児）の安全を守る。 | AL40: FALSE
F41: 保育施設の経営を維持する。 | AL41: FALSE
F42: 保護者の信用を守る。 | AL42: FALSE
F43: 保育業務を再開し、職員の雇用を守る。 | AL43: FALSE
F44: 地域のニーズに応じた社会貢献を果たす。 | AL44: FALSE
E45: ＜独自に定める場合＞
AL46: =IF(COUNTIF(AL40:AL44,TRUE)>4, TRUE,FALSE) -> FALSE
B48: ④ | C48: １-３ BCPの基本方針 計画の適用範囲 | AJ48: P.１
D50: この計画は、施設に勤務又は利用する全ての者に適用するものとします。
D51: この計画は、地震が発生した際に適用するものとするものであり、高潮や津波・土砂災害などその他災害は対象外とします。
E52: ●社内状況
E53: 昼間 利用者 | I53: 約 | L53: 名
E54: 昼間 従業員 | I54: 約 | L54: 名 | M54: ※従業員数が日によって変化する場合は、最も危険側となるように最低人数となる場合を想定してください。
E55: 夜間 利用者 | I55: 約 | L55: 名
E56: 夜間 従業員 | I56: 約 | L56: 名
E57: 休日 利用者 | I57: 約 | L57: 名 | M57: ※休日に利用者数が大きく変化する場合は記入してください。
...

Sheet 従業員名簿　別紙用
B1: ⑤ | C1: ２. 従業員名簿 別紙 | AC1: 別紙
D3: コントロールシートの従業員名簿に記載しきれない従業員を記載してください。
D4: 従業員数に応じて必要があれば、この「コントロールシートの従業員名簿 別紙」および「本編の別紙 従業員名簿」を複製して使用してください。
E6: 従業員数 | I6: 人 | K6: =IF($G$6<>(コントロールシート旧!AL89+$AF$9),"※左の欄で設定した従業員数と従業員名簿および別紙従業員名簿の人数が整合していません。",IF($G$6=(コントロールシート旧!AL89+$AF$9),"※左の欄で設定した従業員数と従業員名簿および別紙従業員名簿の人数が整合しています。","")) -> ※左の欄で設定した従業員数と従業員名簿および別紙従業員名簿の人数が整合していません。
E9: 従業員名 | H9: 住所 | M9: 電話番号 | P9: 緊急連絡先 | S9: 所属（役職） | V9: 勤務先まで の距離 | X9: 通常の 通勤時間 | Z9: 非常時 参集手段 | AB9: 非常時 参集時間 | AD9: 緊急時 所属班 | AF9: =COUNTA($H$10:$L$59) -> 0 | AG9: =COUNTA($AE$10:$AE$59) -> 0
W10: km | Y10: ｈ | AB10: =IF(Z10="","",IF(Z10="徒歩",(V10/5),IF(Z10="自転車",(V10/10)))) | AC10: ｈ | AH10: =($AE10)&"" | AI10: =($E10)&"" | AK10: =(#REF!)&"" -> #REF! | AL10: =($E10)&""
D11: 1 | W11: km | Y11: ｈ | AB11: =IF(Z11="","",IF(Z11="徒歩",(V11/5),IF(Z11="自転車",(V11/10)))) | AC11: ｈ | AH11: =($AE11)&"" | AI11: =($E11)&"" | AK11: =(#REF!)&"" -> #REF! | AL11: =($E11)&""
D12: 2 | W12: km | Y12: ｈ | AB12: =IF(Z12="","",IF(Z12="徒歩",(V12/5),IF(Z12="自転車",(V12/10)))) | AC12: ｈ | AH12: =($AE12)&"" | AI12: =($E12)&"" | AK12: =(#REF!)&"" -> #REF! | AL12: =($E12)&""
D13: 3 | W13: km | Y13: ｈ | AB13: =IF(Z13="","",IF(Z13="徒歩",(V13/5),IF(Z13="自転車",(V13/10)))) | AC13: ｈ | AH13: =($AE13)&"" | AI13: =($E13)&"" | AK13: =(#REF!)&"" -> #REF! | AL13: =($E13)&""
D14: 4 | W14: km | Y14: ｈ | AB14: =IF(Z14="","",IF(Z14="徒歩",(V14/5),IF(Z14="自転車",(V14/10)))) | AC14: ｈ | AH14: =($AE14)&"" | AI14: =($E14)&"" | AK14: =(#REF!)&"" -> #REF! | AL14: =($E14)&""
D15: 5 | W15: km | Y15: ｈ | AB15: =IF(Z15="","",IF(Z15="徒歩",(V15/5),IF(Z15="自転車",(V15/10)))) | AC15: ｈ | AH15: =($AE15)&"" | AI15: =($E15)&"" | AK15: =(#REF!)&"" -> #REF! | AL15: =($E15)&""
D16: 6 | W16: km | Y16: ｈ | AB16: =IF(Z16="","",IF(Z16="徒歩",(V16/5),IF(Z16="自転車",(V16/10)))) | AC16: ｈ | AH16: =($AE16)&"" | AI16: =($E16)&"" | AK16: =(#REF!)&"" -> #REF! | AL16: =($E16)&""
D17: 7 | W17: km | Y17: ｈ | AB17: =IF(Z17="","",IF(Z17="徒歩",(V17/5),IF(Z17="自転車",(V17/10)))) | AC17: ｈ | AH17: =($AE17)&"" | AI17: =($E17)&"" | AK17: =(#REF!)&"" -> #REF! | AL17: =($E17)&""
D18: 8 | W18: km | Y18: ｈ | AB18: =IF(Z18="","",IF(Z18="徒歩",(V18/5),IF(Z18="自転車",(V18/10)))) | AC18: ｈ | AH18: =($AE18)&"" | AI18: =($E18)&"" | AK18: =(#REF!)&"" -> #REF! | AL18: =($E18)&""
D19: 9 | W19: km | Y19: ｈ | AB19: =IF(Z19="","",IF(Z19="徒歩",(V19/5),IF(Z19="自転車",(V19/10)))) | AC19: ｈ | AH19: =($AE19)&"" | AI19: =($E19)&"" | AK19: =(#REF!)&"" -> #REF! | AL19: =($E19)&""
D20: 10 | W20: km | Y20: ｈ | AB20: =IF(Z20="","",IF(Z20="徒歩",(V20/5),IF(Z20="自転車",(V20/10)))) | AC20: ｈ | AH20: =($AE20)&"" | AI20: =($E20)&"" | AK20: =(#REF!)&"" -> #REF! | AL20: =($E20)&""
D21: 11 | W21: km | Y21: ｈ | AB21: =IF(Z21="","",IF(Z21="徒歩",(V21/5),IF(Z21="自転車",(V21/10)))) | AC21: ｈ | AH21: =($AE21)&"" | AI21: =($E21)&"" | AK21: =(#REF!)&"" -> #REF! | AL21: =($E21)&""
D22: 12 | W22: km | Y22: ｈ | AB22: =IF(Z22="","",IF(Z22="徒歩",(V22/5),IF(Z22="自転車",(V22/10)))) | AC22: ｈ | AH22: =($AE22)&"" | AI22: =($E22)&"" | AK22: =(#REF!)&"" -> #REF! | AL22: =($E22)&""
... D34: 24 | W34: km | Y34: ｈ | AB34: =IF(Z34="","",IF(Z34="徒歩",(V34/5),IF(Z34="自転車",(V34/10)))) | AC34: ｈ | AH34: =($AE34)&"" | AI34: =($E34)&"" | AK34: =(#REF!)&"" -> #REF! | AL34: =($E34)&""
W35: km | Y35: ｈ | AB35: =IF(Z35="","",IF(Z35="徒歩",(V35/5),IF(Z35="自転車",(V35/10)))) | AC35: ｈ | AH35: =($AE35)&"" | AI35: =($E35)&"" | AK35: =(#REF!)&"" -> #REF! | AL35: =($E35)&""
W36: km | Y36: ｈ | AB36: =IF(Z36="","",IF(Z36="徒歩",(V36/5),IF(Z36="自転車",(V36/10)))) | AC36: ｈ | AH36: =($AE36)&"" | AI36: =($E36)&"" | AK36: =(#REF!)&"" -> #REF! | AL36: =($E36)&""
W37: km | Y37: ｈ | AB37: =IF(Z37="","",IF(Z37="徒歩",(V37/5),IF(Z37="自転車",(V37/10)))) | AC37: ｈ | AH37: =($AE37)&"" | AI37: =($E37)&"" | AK37: =(#REF!)&"" -> #REF! | AL37: =($E37)&""
W38: km | Y38: ｈ | AB38: =IF(Z38="","",IF(Z38="徒歩",(V38/5),IF(Z38="自転車",(V38/10)))) | AC38: ｈ | AH38: =($AE38)&"" | AI38: =($E38)&"" | AK38: =(#REF!)&"" -> #REF! | AL38: =($E38)&""
W39: km | Y39: ｈ | AB39: =IF(Z39="","",IF(Z39="徒歩",(V39/5),IF(Z39="自転車",(V39/10)))) | AC39: ｈ | AH39: =($AE39)&"" | AI39: =($E39)&"" | AK39: =(#REF!)&"" -> #REF! | AL39: =($E39)&""
W40: km | Y40: ｈ | AB40: =IF(Z40="","",IF(Z40="徒歩",(V40/5),IF(Z40="自転車",(V40/10)))) | AC40: ｈ | AH40: =($AE40)&"" | AI40: =($E40)&"" | AK40: =(#REF!)&"" -> #REF! | AL40: =($E40)&""
W41: km | Y41: ｈ | AB41: =IF(Z41="","",IF(Z41="徒歩",(V41/5),IF(Z41="自転車",(V41/10)))) | AC41: ｈ | AH41: =($AE41)&"" | AI41: =($E41)&"" | AK41: =(#REF!)&"" -> #REF! | AL41: =($E41)&""
W42: km | Y42: ｈ | AB42: =IF(Z42="","",IF(Z42="徒歩",(V42/5),IF(Z42="自転車",(V42/10)))) | AC42: ｈ | AH42: =($AE42)&"" | AI42: =($E42)&"" | AK42: =(#REF!)&"" -> #REF! | AL42: =($E42)&""
W43: km | Y43: ｈ | AB43: =IF(Z43="","",IF(Z43="徒歩",(V43/5),IF(Z43="自転車",(V43/10)))) | AC43: ｈ | AH43: =($AE43)&"" | AI43: =($E43)&"" | AK43: =(#REF!)&"" -> #REF! | AL43: =($E43)&""
W44: km | Y44: ｈ | AB44: =IF(Z44="","",IF(Z44="徒歩",(V44/5),IF(Z44="自転車",(V44/10)))) | AC44: ｈ | AH44: =($AE44)&"" | AI44: =($E44)&"" | AK44: =(#REF!)&"" -> #REF! | AL44: =($E44)&""
W45: km | Y45: ｈ | AB45: =IF(Z45="","",IF(Z45="徒歩",(V45/5),IF(Z45="自転車",(V45/10)))) | AC45: ｈ | AH45: =($AE45)&"" | AI45: =($E45)&"" | AK45: =(#REF!)&"" -> #REF! | AL45: =($E45)&""
W46: km | Y46: ｈ | AB46: =IF(Z46="","",IF(Z46="徒歩",(V46/5),IF(Z46="自転車",(V46/10)))) | AC46: ｈ | AH46: =($AE46)&"" | AI46: =($E46)&"" | AK46: =(#REF!)&"" -> #REF! | AL46: =($E46)&""
... W59: km | Y59: ｈ | AB59: =IF(Z59="","",IF(Z59="徒歩",(V59/5),IF(Z59="自転車",(V59/10)))) | AC59: ｈ | AH59: =($AE59)&"" | AI59: =($E59)&"" | AK59: =(#REF!)&"" -> #REF! | AL59: =($E59)&""

Sheet リスト(印刷対象外)
A1: 最初 | D1: 2. 従業員名簿 | G1: 3. 浸水想定 | J1: 4. 避難計画 | M1: 5. BCPの発動基準
A2: 所属市町村 | B2: 練馬区 | D2: 名簿 | E2: ○ | G2: 浸水 | H2: 有 | J2: 警戒レベル | K2: 警戒レベル3 | M2: 震度 | N2: 震度5弱
E3: － | H3: 無 | J3: 避難 | K3: 警戒レベル4 | M3: BCP | N3: 震度5強
N4: 震度6弱
D5: 参集手段 | E5: 徒歩 | G5: 階数 | H5: 1階 | J5: リードタイム | K5: 0.5
E6: 自転車 | H6: 2階 | K6: 1.5
H7: 3階
H8: 4階
D9: 役職 | E9: 本部長 | H9: 5階以上
E10: 副本部長
E11: 情報収集班班長 | G11: 外水浸水 | H11: ～0.3ｍ
E12: 総務班班長 | H12: 0.3ｍ～0.5ｍ
E13: 広報班班長 | H13: 0.5ｍ～1.0ｍ
E14: 安否確認班班長 | H14: 1.0ｍ～2.0ｍ
E15: システム班班長 | H15: 2.0ｍ～3.0ｍ
E16: 顧客対応班班長 | H16: 3.0ｍ～5.0ｍ
E17: 復旧対応班班長 | H17: 5.0ｍ～7.0ｍ
H18: 7.0ｍ～10.0ｍ
D19: 代替者 | E19: 本部長代理 | H19: 10.0ｍ以上
E20: 副本部長代理
E21: 情報収集班副班長 | G21: 内水浸水 | H21: ～0.5ｍ
E22: 総務班副班長 | H22: 0.5ｍ～1.0ｍ
E23: 広報班副班長 | H23: 1.0ｍ～2.0ｍ
E24: 安否確認班副班長
E25: システム班副班長 | G25: 浸水継続時間 | H25: ～12時間
E26: 顧客対応班副班長 | H26: ～24時間（1日間）
E27: 復旧対応班副班長 | H27: ～72時間（3日間）
H28: ～168時間（1週間）
H29: ～336時間（2週間）
H30: ～672時間（3週間）
G32: 河川 | H32: 天竜川
H33: 馬込川
H34: 芳川
A35: 屋内避難基準 | B35: 1階 | C35: 2階 | D35: 3階 | E35: 4階 | F35: 5階以上 | H35: 都田川
A36: ='リスト(印刷対象外)'!H14 -> 1.0ｍ～2.0ｍ | B36: 不可能 | C36: 不可能 | D36: 不可能 | E36: 不可能 | F36: 不可能 | H36: 安間川
A37: ='リスト(印刷対象外)'!H13 -> 0.5ｍ～1.0ｍ | B37: 不可能 | C37: 不可能 | D37: 可能 | E37: 可能 | F37: 可能 | H37: 阿多古川
A38: ='リスト(印刷対象外)'!H12 -> 0.3ｍ～0.5ｍ | B38: 不可能 | C38: 可能 | D38: 可能 | E38: 可能 | F38: 可能 | H38: 井伊谷川
A39: ='リスト(印刷対象外)'!H11 -> ～0.3ｍ | B39: 可能 | C39: 可能 | D39: 可能 | E39: 可能 | F39: 可能 | H39: 釣橋川
H40: 二俣川
H41: 気田川
...

Sheet 資源リスト(印刷対象外)
A1: 7-1 | D1: 物 | G1: 情報
A2: 重要業務継続に必要な資源 | B2: 資源_インフラ | C2: 資源_人 | D2: 資源_施設・拠点 | E2: 資源_設備 | F2: 資源_備品・備蓄品・原材料（給食用） | G2: 資源_電子機器 | H2: 資源_データ
B3: 電気 | C3: 保育士 | D3: 保育室 | E3: 調理場 | F3: 備品 | G3: 事務処理用PC | H3: 園児の個人情報
B4: 水道 | C4: 調理員 | D4: 事務室 | E4: トイレ | F4: 備蓄品 | G4: 通信機器 | H4: その他
B5: ガス | C5: その他 | D5: ホール | E5: 送迎バス | F5: 原材料（給食） | G5: 放送機器
B6: 情報通信 | D6: 園庭 | E6: その他 | F6: その他 | G6: その他
B7: 道路 | D7: その他
B8: 鉄道・バスなど
B9: その他
A20: 7-2 | D20: 物 | G20: 情報
A21: 具体的な被害 | B21: 被害_インフラ | C21: 被害_人 | D21: 被害_施設・拠点 | E21: 被害_設備 | F21: 被害_商品・備品・原材料 | G21: 被害_電子機器 | H21: 被害_データ
B22: =IF(ROW(コントロールシート旧!A1)>MAX(コントロールシート旧!AM$201:'コントロールシート旧'!AM$206),"",INDEX(コントロールシート旧!$H201:'コントロールシート旧'!$L206,MATCH(ROW(コントロールシート旧!A1),コントロールシート旧!$AM201:'コントロールシート旧'!$AM206,0),COLUMN(コントロールシート旧!A1))) -> 電気 | C22: =IF(ROW(コントロールシート旧!A1)>MAX(コントロールシート旧!AM$210:'コントロールシート旧'!AM$212),"",INDEX(コントロールシート旧!$H210:'コントロールシート旧'!$L212,MATCH(ROW(コントロールシート旧!A1),コントロールシート旧!$AM210:'コントロールシート旧'!$AM212,0),COLUMN(コントロールシート旧!A1))) -> 保育士 | D22: =IF(ROW(コントロールシート旧!A1)>MAX(コントロールシート旧!AM$214:'コントロールシート旧'!AM$216),"",INDEX(コントロールシート旧!$H214:'コントロールシート旧'!$L216,MATCH(ROW(コントロールシート旧!A1),コントロールシート旧!$AM214:'コントロールシート旧'!$AM216,0),COLUMN(コントロールシート旧!A1))) -> 事務室 | E22: =IF(ROW(コントロールシート旧!A1)>MAX(コントロールシート旧!AM$217:'コントロールシート旧'!AM$220),"",INDEX(コントロールシート旧!$H217:'コントロールシート旧'!$L220,MATCH(ROW(コントロールシート旧!A1),コントロールシート旧!$AM217:'コントロールシート旧'!$AM220,0),COLUMN(コントロールシート旧!A1))) -> 調理場 | F22: =IF(ROW(コントロールシート旧!A1)>MAX(コントロールシート旧!AM$221:'コントロールシート旧'!AM$224),"",INDEX(コントロールシート旧!$H221:'コントロールシート旧'!$L224,MATCH(ROW(コントロールシート旧!A1),コントロールシート旧!$AM221:'コントロールシート旧'!$AM224,0),COLUMN(コントロールシート旧!A1))) -> 備品 | G22: =IF(ROW(コントロールシート旧!A1)>MAX(コントロールシート旧!AM$226:'コントロールシート旧'!AM$227),"",INDEX(コントロールシート旧!$H226:'コントロールシート旧'!$L227,MATCH(ROW(コントロールシート旧!A1),コントロールシート旧!$AM226:'コントロールシート旧'!$AM227,0),COLUMN(コントロールシート旧!A1))) -> 事務処理用PC | H22: =IF(ROW(コントロールシート旧!A1)>MAX(コントロールシート旧!AM$228:'コントロールシート旧'!AM$229),"",INDEX(コントロールシート旧!$H228:'コントロールシート旧'!$L229,MATCH(ROW(コントロールシート旧!A1),コントロールシート旧!$AM228:'コントロールシート旧'!$AM229,0),COLUMN(コントロールシート旧!A1))) -> 顧客情報
B23: =IF(ROW(コントロールシート旧!A2)>MAX(コントロールシート旧!AM$201:'コントロールシート旧'!AM$206),"",INDEX(コントロールシート旧!$H202:'コントロールシート旧'!$L207,MATCH(ROW(コントロールシート旧!A2),コントロールシート旧!$AM202:'コントロールシート旧'!$AM207,0),COLUMN(コントロールシート旧!A2))) -> 水道 | C23: =IF(ROW(コントロールシート旧!A2)>MAX(コントロールシート旧!AM$210:'コントロールシート旧'!AM$212),"",INDEX(コントロールシート旧!$H211:'コントロールシート旧'!$L213,MATCH(ROW(コントロールシート旧!A2),コントロールシート旧!$AM211:'コントロールシート旧'!$AM213,0),COLUMN(コントロールシート旧!A2))) -> 調理員 | D23: =IF(ROW(コントロールシート旧!A2)>MAX(コントロールシート旧!AM$214:'コントロールシート旧'!AM$216),"",INDEX(コントロールシート旧!$H215:'コントロールシート旧'!$L217,MATCH(ROW(コントロールシート旧!A2),コントロールシート旧!$AM215:'コントロールシート旧'!$AM217,0),COLUMN(コントロールシート旧!A2))) | E23: =IF(ROW(コントロールシート旧!A2)>MAX(コントロールシート旧!AM$217:'コントロールシート旧'!AM$220),"",INDEX(コントロールシート旧!$H218:'コントロールシート旧'!$L221,MATCH(ROW(コントロールシート旧!A2),コントロールシート旧!$AM218:'コントロールシート旧'!$AM221,0),COLUMN(コントロールシート旧!A2))) | F23: =IF(ROW(コントロールシート旧!A2)>MAX(コントロールシート旧!AM$221:'コントロールシート旧'!AM$224),"",INDEX(コントロールシート旧!$H222:'コントロールシート旧'!$L225,MATCH(ROW(コントロールシート旧!A2),コントロールシート旧!$AM222:'コントロールシート旧'!$AM225,0),COLUMN(コントロールシート旧!A2))) -> 原材料（給食） | G23: =IF(ROW(コントロールシート旧!A2)>MAX(コントロールシート旧!AM$226:'コントロールシート旧'!AM$227),"",INDEX(コントロールシート旧!$H227:'コントロールシート旧'!$L228,MATCH(ROW(コントロールシート旧!A2),コントロールシート旧!$AM227:'コントロールシート旧'!$AM228,0),COLUMN(コントロールシート旧!A2))) -> その他 | H23: =IF(ROW(コントロールシート旧!A2)>MAX(コントロールシート旧!AM$228:'コントロールシート旧'!AM$229),"",INDEX(コントロールシート旧!$H229:'コントロールシート旧'!$L230,MATCH(ROW(コントロールシート旧!A2),コントロールシート旧!$AM229:'コントロールシート旧'!$AM230,0),COLUMN(コントロールシート旧!A2)))
B24: =IF(ROW(コントロールシート旧!A3)>MAX(コントロールシート旧!AM$201:'コントロールシート旧'!AM$206),"",INDEX(コントロールシート旧!$H203:'コントロールシート旧'!$L208,MATCH(ROW(コントロールシート旧!A3),コントロールシート旧!$AM203:'コントロールシート旧'!$AM208,0),COLUMN(コントロールシート旧!A3))) -> 道路 | C24: =IF(ROW(コントロールシート旧!A3)>MAX(コントロールシート旧!AM$210:'コントロールシート旧'!AM$212),"",INDEX(コントロールシート旧!$H212:'コントロールシート旧'!$L214,MATCH(ROW(コントロールシート旧!A3),コントロールシート旧!$AM212:'コントロールシート旧'!$AM214,0),COLUMN(コントロールシート旧!A3))) | D24: =IF(ROW(コントロールシート旧!A3)>MAX(コントロールシート旧!AM$214:'コントロールシート旧'!AM$216),"",INDEX(コントロールシート旧!$H216:'コントロールシート旧'!$L218,MATCH(ROW(コントロールシート旧!A3),コントロールシート旧!$AM216:'コントロールシート旧'!$AM218,0),COLUMN(コントロールシート旧!A3))) | E24: =IF(ROW(コントロールシート旧!A3)>MAX(コントロールシート旧!AM$217:'コントロールシート旧'!AM$220),"",INDEX(コントロールシート旧!$H219:'コントロールシート旧'!$L222,MATCH(ROW(コントロールシート旧!A3),コントロールシート旧!$AM219:'コントロールシート旧'!$AM222,0),COLUMN(コントロールシート旧!A3))) | F24: =IF(ROW(コントロールシート旧!A3)>MAX(コントロールシート旧!AM$221:'コントロールシート旧'!AM$224),"",INDEX(コントロールシート旧!$H223:'コントロールシート旧'!$L226,MATCH(ROW(コントロールシート旧!A3),コントロールシート旧!$AM223:'コントロールシート旧'!$AM226,0),COLUMN(コントロールシート旧!A3))) | G24: =IF(ROW(コントロールシート旧!A3)>MAX(コントロールシート旧!AM$226:'コントロールシート旧'!AM$227),"",INDEX(コントロールシート旧!$H228:'コントロールシート旧'!$L229,MATCH(ROW(コントロールシート旧!A3),コントロールシート旧!$AM228:'コントロールシート旧'!$AM229,0),COLUMN(コントロールシート旧!A3))) | H24: =IF(ROW(コントロールシート旧!A3)>MAX(コントロールシート旧!AM$228:'コントロールシート旧'!AM$229),"",INDEX(コントロールシート旧!$H230:'コントロールシート旧'!$L231,MATCH(ROW(コントロールシート旧!A3),コントロールシート旧!$AM230:'コントロールシート旧'!$AM231,0),COLUMN(コントロールシート旧!A3)))
B25: =IF(ROW(コントロールシート旧!A4)>MAX(コントロールシート旧!AM$201:'コントロールシート旧'!AM$206),"",INDEX(コントロールシート旧!$H204:'コントロールシート旧'!$L209,MATCH(ROW(コントロールシート旧!A4),コントロールシート旧!$AM204:'コントロールシート旧'!$AM209,0),COLUMN(コントロールシート旧!A4))) | C25: =IF(ROW(コントロールシート旧!A4)>MAX(コントロールシート旧!AM$210:'コントロールシート旧'!AM$212),"",INDEX(コントロールシート旧!$H213:'コントロールシート旧'!$L215,MATCH(ROW(コントロールシート旧!A4),コントロールシート旧!$AM213:'コントロールシート旧'!$AM215,0),COLUMN(コントロールシート旧!A4))) | D25: =IF(ROW(コントロールシート旧!A4)>MAX(コントロールシート旧!AM$214:'コントロールシート旧'!AM$216),"",INDEX(コントロールシート旧!$H217:'コントロールシート旧'!$L219,MATCH(ROW(コントロールシート旧!A4),コントロールシート旧!$AM217:'コントロールシート旧'!$AM219,0),COLUMN(コントロールシート旧!A4))) | E25: =IF(ROW(コントロールシート旧!A4)>MAX(コントロールシート旧!AM$217:'コントロールシート旧'!AM$220),"",INDEX(コントロールシート旧!$H220:'コントロールシート旧'!$L223,MATCH(ROW(コントロールシート旧!A4),コントロールシート旧!$AM220:'コントロールシート旧'!$AM223,0),COLUMN(コントロールシート旧!A4))) | F25: =IF(ROW(コントロールシート旧!A4)>MAX(コントロールシート旧!AM$221:'コントロールシート旧'!AM$224),"",INDEX(コントロールシート旧!$H224:'コントロールシート旧'!$L227,MATCH(ROW(コントロールシート旧!A4),コントロールシート旧!$AM224:'コントロールシート旧'!$AM227,0),COLUMN(コントロールシート旧!A4))) | G25: =IF(ROW(コントロールシート旧!A4)>MAX(コントロールシート旧!AM$226:'コントロールシート旧'!AM$227),"",INDEX(コントロールシート旧!$H229:'コントロールシート旧'!$L230,MATCH(ROW(コントロールシート旧!A4),コントロールシート旧!$AM229:'コントロールシート旧'!$AM230,0),COLUMN(コントロールシート旧!A4))) | H25: =IF(ROW(コントロールシート旧!A4)>MAX(コントロールシート旧!AM$228:'コントロールシート旧'!AM$229),"",INDEX(コントロールシート旧!$H231:'コントロールシート旧'!$L232,MATCH(ROW(コントロールシート旧!A4),コントロールシート旧!$AM231:'コントロールシート旧'!$AM232,0),COLUMN(コントロールシート旧!A4)))
B26: =IF(ROW(コントロールシート旧!A5)>MAX(コントロールシート旧!AM$201:'コントロールシート旧'!AM$206),"",INDEX(コントロールシート旧!$H205:'コントロールシート旧'!$L210,MATCH(ROW(コントロールシート旧!A5),コントロールシート旧!$AM205:'コントロールシート旧'!$AM210,0),COLUMN(コントロールシート旧!A5))) | C26: =IF(ROW(コントロールシート旧!A5)>MAX(コントロールシート旧!AM$210:'コントロールシート旧'!AM$212),"",INDEX(コントロールシート旧!$H214:'コントロールシート旧'!$L216,MATCH(ROW(コントロールシート旧!A5),コントロールシート旧!$AM214:'コントロールシート旧'!$AM216,0),COLUMN(コントロールシート旧!A5))) | D26: =IF(ROW(コントロールシート旧!A5)>MAX(コントロールシート旧!AM$214:'コントロールシート旧'!AM$216),"",INDEX(コントロールシート旧!$H218:'コントロールシート旧'!$L220,MATCH(ROW(コントロールシート旧!A5),コントロールシート旧!$AM218:'コントロールシート旧'!$AM220,0),COLUMN(コントロールシート旧!A5))) | E26: =IF(ROW(コントロールシート旧!A5)>MAX(コントロールシート旧!AM$217:'コントロールシート旧'!AM$220),"",INDEX(コントロールシート旧!$H221:'コントロールシート旧'!$L224,MATCH(ROW(コントロールシート旧!A5),コントロールシート旧!$AM221:'コントロールシート旧'!$AM224,0),COLUMN(コントロールシート旧!A5))) | F26: =IF(ROW(コントロールシート旧!A5)>MAX(コントロールシート旧!AM$221:'コントロールシート旧'!AM$224),"",INDEX(コントロールシート旧!$H225:'コントロールシート旧'!$L228,MATCH(ROW(コントロールシート旧!A5),コントロールシート旧!$AM225:'コントロールシート旧'!$AM228,0),COLUMN(コントロールシート旧!A5))) | G26: =IF(ROW(コントロールシート旧!A5)>MAX(コントロールシート旧!AM$226:'コントロールシート旧'!AM$227),"",INDEX(コントロールシート旧!$H230:'コントロールシート旧'!$L231,MATCH(ROW(コントロールシート旧!A5),コントロールシート旧!$AM230:'コントロールシート旧'!$AM231,0),COLUMN(コントロールシート旧!A5))) | H26: =IF(ROW(コントロールシート旧!A5)>MAX(コントロールシート旧!AM$228:'コントロールシート旧'!AM$229),"",INDEX(コントロールシート旧!$H232:'コントロールシート旧'!$L233,MATCH(ROW(コントロールシート旧!A5),コントロールシート旧!$AM232:'コントロールシート旧'!$AM233,0),COLUMN(コントロールシート旧!A5)))
B27: =IF(ROW(コントロールシート旧!A6)>MAX(コントロールシート旧!AM$201:'コントロールシート旧'!AM$206),"",INDEX(コントロールシート旧!$H206:'コントロールシート旧'!$L211,MATCH(ROW(コントロールシート旧!A6),コントロールシート旧!$AM206:'コントロールシート旧'!$AM211,0),COLUMN(コントロールシート旧!A6))) | C27: =IF(ROW(コントロールシート旧!A6)>MAX(コントロールシート旧!AM$210:'コントロールシート旧'!AM$212),"",INDEX(コントロールシート旧!$H215:'コントロールシート旧'!$L217,MATCH(ROW(コントロールシート旧!A6),コントロールシート旧!$AM215:'コントロールシート旧'!$AM217,0),COLUMN(コントロールシート旧!A6))) | D27: =IF(ROW(コントロールシート旧!A6)>MAX(コントロールシート旧!AM$214:'コントロールシート旧'!AM$216),"",INDEX(コントロールシート旧!$H219:'コントロールシート旧'!$L221,MATCH(ROW(コントロールシート旧!A6),コントロールシート旧!$AM219:'コントロールシート旧'!$AM221,0),COLUMN(コントロールシート旧!A6))) | E27: =IF(ROW(コントロールシート旧!A6)>MAX(コントロールシート旧!AM$217:'コントロールシート旧'!AM$220),"",INDEX(コントロールシート旧!$H222:'コントロールシート旧'!$L225,MATCH(ROW(コントロールシート旧!A6),コントロールシート旧!$AM222:'コントロールシート旧'!$AM225,0),COLUMN(コントロールシート旧!A6))) | F27: =IF(ROW(コントロールシート旧!A6)>MAX(コントロールシート旧!AM$221:'コントロールシート旧'!AM$224),"",INDEX(コントロールシート旧!$H226:'コントロールシート旧'!$L229,MATCH(ROW(コントロールシート旧!A6),コントロールシート旧!$AM226:'コントロールシート旧'!$AM229,0),COLUMN(コントロールシート旧!A6))) | G27: =IF(ROW(コントロールシート旧!A6)>MAX(コントロールシート旧!AM$226:'コントロールシート旧'!AM$227),"",INDEX(コントロールシート旧!$H231:'コントロールシート旧'!$L232,MATCH(ROW(コントロールシート旧!A6),コントロールシート旧!$AM231:'コントロールシート旧'!$AM232,0),COLUMN(コントロールシート旧!A6))) | H27: =IF(ROW(コントロールシート旧!A6)>MAX(コントロールシート旧!AM$228:'コントロールシート旧'!AM$229),"",INDEX(コントロールシート旧!$H233:'コントロールシート旧'!$L234,MATCH(ROW(コントロールシート旧!A6),コントロールシート旧!$AM233:'コントロールシート旧'!$AM234,0),COLUMN(コントロールシート旧!A6)))
B28: =IF(ROW(コントロールシート旧!A7)>MAX(コントロールシート旧!AM$201:'コントロールシート旧'!AM$206),"",INDEX(コントロールシート旧!$H207:'コントロールシート旧'!$L212,MATCH(ROW(コントロールシート旧!A7),コントロールシート旧!$AM207:'コントロールシート旧'!$AM212,0),COLUMN(コントロールシート旧!A7))) | C28: =IF(ROW(コントロールシート旧!A7)>MAX(コントロールシート旧!AM$210:'コントロールシート旧'!AM$212),"",INDEX(コントロールシート旧!$H216:'コントロールシート旧'!$L218,MATCH(ROW(コントロールシート旧!A7),コントロールシート旧!$AM216:'コントロールシート旧'!$AM218,0),COLUMN(コントロールシート旧!A7))) | D28: =IF(ROW(コントロールシート旧!A7)>MAX(コントロールシート旧!AM$214:'コントロールシート旧'!AM$216),"",INDEX(コントロールシート旧!$H220:'コントロールシート旧'!$L222,MATCH(ROW(コントロールシート旧!A7),コントロールシート旧!$AM220:'コントロールシート旧'!$AM222,0),COLUMN(コントロールシート旧!A7))) | E28: =IF(ROW(コントロールシート旧!A7)>MAX(コントロールシート旧!AM$217:'コントロールシート旧'!AM$220),"",INDEX(コントロールシート旧!$H223:'コントロールシート旧'!$L226,MATCH(ROW(コントロールシート旧!A7),コントロールシート旧!$AM223:'コントロールシート旧'!$AM226,0),COLUMN(コントロールシート旧!A7))) | F28: =IF(ROW(コントロールシート旧!A7)>MAX(コントロールシート旧!AM$221:'コントロールシート旧'!AM$224),"",INDEX(コントロールシート旧!$H227:'コントロールシート旧'!$L230,MATCH(ROW(コントロールシート旧!A7),コントロールシート旧!$AM227:'コントロールシート旧'!$AM230,0),COLUMN(コントロールシート旧!A7))) | G28: =IF(ROW(コントロールシート旧!A7)>MAX(コントロールシート旧!AM$226:'コントロールシート旧'!AM$227),"",INDEX(コントロールシート旧!$H232:'コントロールシート旧'!$L233,MATCH(ROW(コントロールシート旧!A7),コントロールシート旧!$AM232:'コントロールシート旧'!$AM233,0),COLUMN(コントロールシート旧!A7))) | H28: =IF(ROW(コントロールシート旧!A7)>MAX(コントロールシート旧!AM$228:'コントロールシート旧'!AM$229),"",INDEX(コントロールシート旧!$H234:'コントロールシート旧'!$L235,MATCH(ROW(コントロールシート旧!A7),コントロールシート旧!$AM234:'コントロールシート旧'!$AM235,0),COLUMN(コントロールシート旧!A7)))
B29: =IF(ROW(コントロールシート旧!A8)>MAX(コントロールシート旧!AM$201:'コントロールシート旧'!AM$206),"",INDEX(コントロールシート旧!$H208:'コントロールシート旧'!$L213,MATCH(ROW(コントロールシート旧!A8),コントロールシート旧!$AM208:'コントロールシート旧'!$AM213,0),COLUMN(コントロールシート旧!A8))) | C29: =IF(ROW(コントロールシート旧!A8)>MAX(コントロールシート旧!AM$210:'コントロールシート旧'!AM$212),"",INDEX(コントロールシート旧!$H217:'コントロールシート旧'!$L219,MATCH(ROW(コントロールシート旧!A8),コントロールシート旧!$AM217:'コントロールシート旧'!$AM219,0),COLUMN(コントロールシート旧!A8))) | D29: =IF(ROW(コントロールシート旧!A8)>MAX(コントロールシート旧!AM$214:'コントロールシート旧'!AM$216),"",INDEX(コントロールシート旧!$H221:'コントロールシート旧'!$L223,MATCH(ROW(コントロールシート旧!A8),コントロールシート旧!$AM221:'コントロールシート旧'!$AM223,0),COLUMN(コントロールシート旧!A8))) | E29: =IF(ROW(コントロールシート旧!A8)>MAX(コントロールシート旧!AM$217:'コントロールシート旧'!AM$220),"",INDEX(コントロールシート旧!$H224:'コントロールシート旧'!$L227,MATCH(ROW(コントロールシート旧!A8),コントロールシート旧!$AM224:'コントロールシート旧'!$AM227,0),COLUMN(コントロールシート旧!A8))) | F29: =IF(ROW(コントロールシート旧!A8)>MAX(コントロールシート旧!AM$221:'コントロールシート旧'!AM$224),"",INDEX(コントロールシート旧!$H228:'コントロールシート旧'!$L231,MATCH(ROW(コントロールシート旧!A8),コントロールシート旧!$AM228:'コントロールシート旧'!$AM231,0),COLUMN(コントロールシート旧!A8))) | G29: =IF(ROW(コントロールシート旧!A8)>MAX(コントロールシート旧!AM$226:'コントロールシート旧'!AM$227),"",INDEX(コントロールシート旧!$H233:'コントロールシート旧'!$L234,MATCH(ROW(コントロールシート旧!A8),コントロールシート旧!$AM233:'コントロールシート旧'!$AM234,0),COLUMN(コントロールシート旧!A8))) | H29: =IF(ROW(コントロールシート旧!A8)>MAX(コントロールシート旧!AM$228:'コントロールシート旧'!AM$229),"",INDEX(コントロールシート旧!$H235:'コントロールシート旧'!$L236,MATCH(ROW(コントロールシート旧!A8),コントロールシート旧!$AM235:'コントロールシート旧'!$AM236,0),COLUMN(コントロールシート旧!A8)))
B30: =IF(ROW(コントロールシート旧!A9)>MAX(コントロールシート旧!AM$201:'コントロールシート旧'!AM$206),"",INDEX(コントロールシート旧!$H209:'コントロールシート旧'!$L214,MATCH(ROW(コントロールシート旧!A9),コントロールシート旧!$AM209:'コントロールシート旧'!$AM214,0),COLUMN(コントロールシート旧!A9))) | C30: =IF(ROW(コントロールシート旧!A9)>MAX(コントロールシート旧!AM$210:'コントロールシート旧'!AM$212),"",INDEX(コントロールシート旧!$H218:'コントロールシート旧'!$L220,MATCH(ROW(コントロールシート旧!A9),コントロールシート旧!$AM218:'コントロールシート旧'!$AM220,0),COLUMN(コントロールシート旧!A9))) | D30: =IF(ROW(コントロールシート旧!A9)>MAX(コントロールシート旧!AM$214:'コントロールシート旧'!AM$216),"",INDEX(コントロールシート旧!$H222:'コントロールシート旧'!$L224,MATCH(ROW(コントロールシート旧!A9),コントロールシート旧!$AM222:'コントロールシート旧'!$AM224,0),COLUMN(コントロールシート旧!A9))) | E30: =IF(ROW(コントロールシート旧!A9)>MAX(コントロールシート旧!AM$217:'コントロールシート旧'!AM$220),"",INDEX(コントロールシート旧!$H225:'コントロールシート旧'!$L228,MATCH(ROW(コントロールシート旧!A9),コントロールシート旧!$AM225:'コントロールシート旧'!$AM228,0),COLUMN(コントロールシート旧!A9))) | F30: =IF(ROW(コントロールシート旧!A9)>MAX(コントロールシート旧!AM$221:'コントロールシート旧'!AM$224),"",INDEX(コントロールシート旧!$H229:'コントロールシート旧'!$L232,MATCH(ROW(コントロールシート旧!A9),コントロールシート旧!$AM229:'コントロールシート旧'!$AM232,0),COLUMN(コントロールシート旧!A9))) | G30: =IF(ROW(コントロールシート旧!A9)>MAX(コントロールシート旧!AM$226:'コントロールシート旧'!AM$227),"",INDEX(コントロールシート旧!$H234:'コントロールシート旧'!$L235,MATCH(ROW(コントロールシート旧!A9),コントロールシート旧!$AM234:'コントロールシート旧'!$AM235,0),COLUMN(コントロールシート旧!A9))) | H30: =IF(ROW(コントロールシート旧!A9)>MAX(コントロールシート旧!AM$228:'コントロールシート旧'!AM$229),"",INDEX(コントロールシート旧!$H236:'コントロールシート旧'!$L237,MATCH(ROW(コントロールシート旧!A9),コントロールシート旧!$AM236:'コントロールシート旧'!$AM237,0),COLUMN(コントロールシート旧!A9)))
B31: =IF(ROW(コントロールシート旧!A21)>MAX(コントロールシート旧!AM$201:'コントロールシート旧'!AM$206),"",INDEX(コントロールシート旧!$H210:'コントロールシート旧'!$L215,MATCH(ROW(コントロールシート旧!A21),コントロールシート旧!$AM210:'コントロールシート旧'!$AM215,0),COLUMN(コントロールシート旧!A21))) | C31: =IF(ROW(コントロールシート旧!A21)>MAX(コントロールシート旧!AM$210:'コントロールシート旧'!AM$212),"",INDEX(コントロールシート旧!$H219:'コントロールシート旧'!$L221,MATCH(ROW(コントロールシート旧!A21),コントロールシート旧!$AM219:'コントロールシート旧'!$AM221,0),COLUMN(コントロールシート旧!A21))) | D31: =IF(ROW(コントロールシート旧!A21)>MAX(コントロールシート旧!AM$214:'コントロールシート旧'!AM$216),"",INDEX(コントロールシート旧!$H223:'コントロールシート旧'!$L225,MATCH(ROW(コントロールシート旧!A21),コントロールシート旧!$AM223:'コントロールシート旧'!$AM225,0),COLUMN(コントロールシート旧!A21))) | E31: =IF(ROW(コントロールシート旧!A21)>MAX(コントロールシート旧!AM$217:'コントロールシート旧'!AM$220),"",INDEX(コントロールシート旧!$H226:'コントロールシート旧'!$L229,MATCH(ROW(コントロールシート旧!A21),コントロールシート旧!$AM226:'コントロールシート旧'!$AM229,0),COLUMN(コントロールシート旧!A21))) | F31: =IF(ROW(コントロールシート旧!A21)>MAX(コントロールシート旧!AM$221:'コントロールシート旧'!AM$224),"",INDEX(コントロールシート旧!$H230:'コントロールシート旧'!$L233,MATCH(ROW(コントロールシート旧!A21),コントロールシート旧!$AM230:'コントロールシート旧'!$AM233,0),COLUMN(コントロールシート旧!A21))) | G31: =IF(ROW(コントロールシート旧!A21)>MAX(コントロールシート旧!AM$226:'コントロールシート旧'!AM$227),"",INDEX(コントロールシート旧!$H235:'コントロールシート旧'!$L236,MATCH(ROW(コントロールシート旧!A21),コントロールシート旧!$AM235:'コントロールシート旧'!$AM236,0),COLUMN(コントロールシート旧!A21))) | H31: =IF(ROW(コントロールシート旧!A21)>MAX(コントロールシート旧!AM$228:'コントロールシート旧'!AM$229),"",INDEX(コントロールシート旧!$H237:'コントロールシート旧'!$L238,MATCH(ROW(コントロールシート旧!A21),コントロールシート旧!$AM237:'コントロールシート旧'!$AM238,0),COLUMN(コントロールシート旧!A21)))
B32: =IF(ROW(コントロールシート旧!A22)>MAX(コントロールシート旧!AM$201:'コントロールシート旧'!AM$206),"",INDEX(コントロールシート旧!$H211:'コントロールシート旧'!$L216,MATCH(ROW(コントロールシート旧!A22),コントロールシート旧!$AM211:'コントロールシート旧'!$AM216,0),COLUMN(コントロールシート旧!A22))) | C32: =IF(ROW(コントロールシート旧!A22)>MAX(コントロールシート旧!AM$210:'コントロールシート旧'!AM$212),"",INDEX(コントロールシート旧!$H220:'コントロールシート旧'!$L222,MATCH(ROW(コントロールシート旧!A22),コントロールシート旧!$AM220:'コントロールシート旧'!$AM222,0),COLUMN(コントロールシート旧!A22))) | D32: =IF(ROW(コントロールシート旧!A22)>MAX(コントロールシート旧!AM$214:'コントロールシート旧'!AM$216),"",INDEX(コントロールシート旧!$H224:'コントロールシート旧'!$L226,MATCH(ROW(コントロールシート旧!A22),コントロールシート旧!$AM224:'コントロールシート旧'!$AM226,0),COLUMN(コントロールシート旧!A22))) | E32: =IF(ROW(コントロールシート旧!A22)>MAX(コントロールシート旧!AM$217:'コントロールシート旧'!AM$220),"",INDEX(コントロールシート旧!$H227:'コントロールシート旧'!$L230,MATCH(ROW(コントロールシート旧!A22),コントロールシート旧!$AM227:'コントロールシート旧'!$AM230,0),COLUMN(コントロールシート旧!A22))) | F32: =IF(ROW(コントロールシート旧!A22)>MAX(コントロールシート旧!AM$221:'コントロールシート旧'!AM$224),"",INDEX(コントロールシート旧!$H231:'コントロールシート旧'!$L234,MATCH(ROW(コントロールシート旧!A22),コントロールシート旧!$AM231:'コントロールシート旧'!$AM234,0),COLUMN(コントロールシート旧!A22))) | G32: =IF(ROW(コントロールシート旧!A22)>MAX(コントロールシート旧!AM$226:'コントロールシート旧'!AM$227),"",INDEX(コントロールシート旧!$H236:'コントロールシート旧'!$L237,MATCH(ROW(コントロールシート旧!A22),コントロールシート旧!$AM236:'コントロールシート旧'!$AM237,0),COLUMN(コントロールシート旧!A22))) | H32: =IF(ROW(コントロールシート旧!A22)>MAX(コントロールシート旧!AM$228:'コントロールシート旧'!AM$229),"",INDEX(コントロールシート旧!$H238:'コントロールシート旧'!$L239,MATCH(ROW(コントロールシート旧!A22),コントロールシート旧!$AM238:'コントロールシート旧'!$AM239,0),COLUMN(コントロールシート旧!A22)))
B33: =IF(ROW(コントロールシート旧!A23)>MAX(コントロールシート旧!AM$201:'コントロールシート旧'!AM$206),"",INDEX(コントロールシート旧!$H212:'コントロールシート旧'!$L217,MATCH(ROW(コントロールシート旧!A23),コントロールシート旧!$AM212:'コントロールシート旧'!$AM217,0),COLUMN(コントロールシート旧!A23))) | C33: =IF(ROW(コントロールシート旧!A23)>MAX(コントロールシート旧!AM$210:'コントロールシート旧'!AM$212),"",INDEX(コントロールシート旧!$H221:'コントロールシート旧'!$L223,MATCH(ROW(コントロールシート旧!A23),コントロールシート旧!$AM221:'コントロールシート旧'!$AM223,0),COLUMN(コントロールシート旧!A23))) | D33: =IF(ROW(コントロールシート旧!A23)>MAX(コントロールシート旧!AM$214:'コントロールシート旧'!AM$216),"",INDEX(コントロールシート旧!$H225:'コントロールシート旧'!$L227,MATCH(ROW(コントロールシート旧!A23),コントロールシート旧!$AM225:'コントロールシート旧'!$AM227,0),COLUMN(コントロールシート旧!A23))) | E33: =IF(ROW(コントロールシート旧!A23)>MAX(コントロールシート旧!AM$217:'コントロールシート旧'!AM$220),"",INDEX(コントロールシート旧!$H228:'コントロールシート旧'!$L231,MATCH(ROW(コントロールシート旧!A23),コントロールシート旧!$AM228:'コントロールシート旧'!$AM231,0),COLUMN(コントロールシート旧!A23))) | F33: =IF(ROW(コントロールシート旧!A23)>MAX(コントロールシート旧!AM$221:'コントロールシート旧'!AM$224),"",INDEX(コントロールシート旧!$H232:'コントロールシート旧'!$L235,MATCH(ROW(コントロールシート旧!A23),コントロールシート旧!$AM232:'コントロールシート旧'!$AM235,0),COLUMN(コントロールシート旧!A23))) | G33: =IF(ROW(コントロールシート旧!A23)>MAX(コントロールシート旧!AM$226:'コントロールシート旧'!AM$227),"",INDEX(コントロールシート旧!$H237:'コントロールシート旧'!$L238,MATCH(ROW(コントロールシート旧!A23),コントロールシート旧!$AM237:'コントロールシート旧'!$AM238,0),COLUMN(コントロールシート旧!A23))) | H33: =IF(ROW(コントロールシート旧!A23)>MAX(コントロールシート旧!AM$228:'コントロールシート旧'!AM$229),"",INDEX(コントロールシート旧!$H239:'コントロールシート旧'!$L240,MATCH(ROW(コントロールシート旧!A23),コントロールシート旧!$AM239:'コントロールシート旧'!$AM240,0),COLUMN(コントロールシート旧!A23)))
B34: =IF(ROW(コントロールシート旧!A24)>MAX(コントロールシート旧!AM$201:'コントロールシート旧'!AM$206),"",INDEX(コントロールシート旧!$H213:'コントロールシート旧'!$L218,MATCH(ROW(コントロールシート旧!A24),コントロールシート旧!$AM213:'コントロールシート旧'!$AM218,0),COLUMN(コントロールシート旧!A24))) | C34: =IF(ROW(コントロールシート旧!A24)>MAX(コントロールシート旧!AM$210:'コントロールシート旧'!AM$212),"",INDEX(コントロールシート旧!$H222:'コントロールシート旧'!$L224,MATCH(ROW(コントロールシート旧!A24),コントロールシート旧!$AM222:'コントロールシート旧'!$AM224,0),COLUMN(コントロールシート旧!A24))) | D34: =IF(ROW(コントロールシート旧!A24)>MAX(コントロールシート旧!AM$214:'コントロールシート旧'!AM$216),"",INDEX(コントロールシート旧!$H226:'コントロールシート旧'!$L228,MATCH(ROW(コントロールシート旧!A24),コントロールシート旧!$AM226:'コントロールシート旧'!$AM228,0),COLUMN(コントロールシート旧!A24))) | E34: =IF(ROW(コントロールシート旧!A24)>MAX(コントロールシート旧!AM$217:'コントロールシート旧'!AM$220),"",INDEX(コントロールシート旧!$H229:'コントロールシート旧'!$L232,MATCH(ROW(コントロールシート旧!A24),コントロールシート旧!$AM229:'コントロールシート旧'!$AM232,0),COLUMN(コントロールシート旧!A24))) | F34: =IF(ROW(コントロールシート旧!A24)>MAX(コントロールシート旧!AM$221:'コントロールシート旧'!AM$224),"",INDEX(コントロールシート旧!$H233:'コントロールシート旧'!$L236,MATCH(ROW(コントロールシート旧!A24),コントロールシート旧!$AM233:'コントロールシート旧'!$AM236,0),COLUMN(コントロールシート旧!A24))) | G34: =IF(ROW(コントロールシート旧!A24)>MAX(コントロールシート旧!AM$226:'コントロールシート旧'!AM$227),"",INDEX(コントロールシート旧!$H238:'コントロールシート旧'!$L239,MATCH(ROW(コントロールシート旧!A24),コントロールシート旧!$AM238:'コントロールシート旧'!$AM239,0),COLUMN(コントロールシート旧!A24))) | H34: =IF(ROW(コントロールシート旧!A24)>MAX(コントロールシート旧!AM$228:'コントロールシート旧'!AM$229),"",INDEX(コントロールシート旧!$H240:'コントロールシート旧'!$L241,MATCH(ROW(コントロールシート旧!A24),コントロールシート旧!$AM240:'コントロールシート旧'!$AM241,0),COLUMN(コントロールシート旧!A24)))
B35: =IF(ROW(コントロールシート旧!A25)>MAX(コントロールシート旧!AM$201:'コントロールシート旧'!AM$206),"",INDEX(コントロールシート旧!$H214:'コントロールシート旧'!$L219,MATCH(ROW(コントロールシート旧!A25),コントロールシート旧!$AM214:'コントロールシート旧'!$AM219,0),COLUMN(コントロールシート旧!A25))) | C35: =IF(ROW(コントロールシート旧!A25)>MAX(コントロールシート旧!AM$210:'コントロールシート旧'!AM$212),"",INDEX(コントロールシート旧!$H223:'コントロールシート旧'!$L225,MATCH(ROW(コントロールシート旧!A25),コントロールシート旧!$AM223:'コントロールシート旧'!$AM225,0),COLUMN(コントロールシート旧!A25))) | D35: =IF(ROW(コントロールシート旧!A25)>MAX(コントロールシート旧!AM$214:'コントロールシート旧'!AM$216),"",INDEX(コントロールシート旧!$H227:'コントロールシート旧'!$L229,MATCH(ROW(コントロールシート旧!A25),コントロールシート旧!$AM227:'コントロールシート旧'!$AM229,0),COLUMN(コントロールシート旧!A25))) | E35: =IF(ROW(コントロールシート旧!A25)>MAX(コントロールシート旧!AM$217:'コントロールシート旧'!AM$220),"",INDEX(コントロールシート旧!$H230:'コントロールシート旧'!$L233,MATCH(ROW(コントロールシート旧!A25),コントロールシート旧!$AM230:'コントロールシート旧'!$AM233,0),COLUMN(コントロールシート旧!A25))) | F35: =IF(ROW(コントロールシート旧!A25)>MAX(コントロールシート旧!AM$221:'コントロールシート旧'!AM$224),"",INDEX(コントロールシート旧!$H234:'コントロールシート旧'!$L237,MATCH(ROW(コントロールシート旧!A25),コントロールシート旧!$AM234:'コントロールシート旧'!$AM237,0),COLUMN(コントロールシート旧!A25))) | G35: =IF(ROW(コントロールシート旧!A25)>MAX(コントロールシート旧!AM$226:'コントロールシート旧'!AM$227),"",INDEX(コントロールシート旧!$H239:'コントロールシート旧'!$L240,MATCH(ROW(コントロールシート旧!A25),コントロールシート旧!$AM239:'コントロールシート旧'!$AM240,0),COLUMN(コントロールシート旧!A25))) | H35: =IF(ROW(コントロールシート旧!A25)>MAX(コントロールシート旧!AM$228:'コントロールシート旧'!AM$229),"",INDEX(コントロールシート旧!$H241:'コントロールシート旧'!$L242,MATCH(ROW(コントロールシート旧!A25),コントロールシート旧!$AM241:'コントロールシート旧'!$AM242,0),COLUMN(コントロールシート旧!A25)))
B36: =IF(ROW(コントロールシート旧!A26)>MAX(コントロールシート旧!AM$201:'コントロールシート旧'!AM$206),"",INDEX(コントロールシート旧!$H215:'コントロールシート旧'!$L220,MATCH(ROW(コントロールシート旧!A26),コントロールシート旧!$AM215:'コントロールシート旧'!$AM220,0),COLUMN(コントロールシート旧!A26))) | C36: =IF(ROW(コントロールシート旧!A26)>MAX(コントロールシート旧!AM$210:'コントロールシート旧'!AM$212),"",INDEX(コントロールシート旧!$H224:'コントロールシート旧'!$L226,MATCH(ROW(コントロールシート旧!A26),コントロールシート旧!$AM224:'コントロールシート旧'!$AM226,0),COLUMN(コントロールシート旧!A26))) | D36: =IF(ROW(コントロールシート旧!A26)>MAX(コントロールシート旧!AM$214:'コントロールシート旧'!AM$216),"",INDEX(コントロールシート旧!$H228:'コントロールシート旧'!$L230,MATCH(ROW(コントロールシート旧!A26),コントロールシート旧!$AM228:'コントロールシート旧'!$AM230,0),COLUMN(コントロールシート旧!A26))) | E36: =IF(ROW(コントロールシート旧!A26)>MAX(コントロールシート旧!AM$217:'コントロールシート旧'!AM$220),"",INDEX(コントロールシート旧!$H231:'コントロールシート旧'!$L234,MATCH(ROW(コントロールシート旧!A26),コントロールシート旧!$AM231:'コントロールシート旧'!$AM234,0),COLUMN(コントロールシート旧!A26))) | F36: =IF(ROW(コントロールシート旧!A26)>MAX(コントロールシート旧!AM$221:'コントロールシート旧'!AM$224),"",INDEX(コントロールシート旧!$H235:'コントロールシート旧'!$L238,MATCH(ROW(コントロールシート旧!A26),コントロールシート旧!$AM235:'コントロールシート旧'!$AM238,0),COLUMN(コントロールシート旧!A26))) | G36: =IF(ROW(コントロールシート旧!A26)>MAX(コントロールシート旧!AM$226:'コントロールシート旧'!AM$227),"",INDEX(コントロールシート旧!$H240:'コントロールシート旧'!$L241,MATCH(ROW(コントロールシート旧!A26),コントロールシート旧!$AM240:'コントロールシート旧'!$AM241,0),COLUMN(コントロールシート旧!A26))) | H36: =IF(ROW(コントロールシート旧!A26)>MAX(コントロールシート旧!AM$228:'コントロールシート旧'!AM$229),"",INDEX(コントロールシート旧!$H242:'コントロールシート旧'!$L243,MATCH(ROW(コントロールシート旧!A26),コントロールシート旧!$AM242:'コントロールシート旧'!$AM243,0),COLUMN(コントロールシート旧!A26)))
A41: 8-1 | B41: インフラ | C41: 人 | D41: 物 | E41: 情報 | F41: その他
A42: 対策の内容 | B42: =IF(ROW(コントロールシート旧!A1)>MAX(コントロールシート旧!AN$239:'コントロールシート旧'!AN$244),"",INDEX(コントロールシート旧!$H239:'コントロールシート旧'!$L244,MATCH(ROW(コントロールシート旧!A1),コントロールシート旧!$AN239:'コントロールシート旧'!$AN244,0),COLUMN(コントロールシート旧!A1))) -> 電気 | C42: =IF(ROW(コントロールシート旧!A1)>MAX(コントロールシート旧!AN$248:'コントロールシート旧'!AN$250),"",INDEX(コントロールシート旧!$H248:'コントロールシート旧'!$L250,MATCH(ROW(コントロールシート旧!A1),コントロールシート旧!$AN248:'コントロールシート旧'!$AN250,0),COLUMN(コントロールシート旧!A1))) | D42: =IF(ROW(コントロールシート旧!A1)>MAX(コントロールシート旧!AN$252:'コントロールシート旧'!AN$262),"",INDEX(コントロールシート旧!$H252:'コントロールシート旧'!$L262,MATCH(ROW(コントロールシート旧!A1),コントロールシート旧!$AN252:$AN262,0),COLUMN(コントロールシート旧!A1))) -> 事務室 | E42: =IF(ROW(コントロールシート旧!A1)>MAX(コントロールシート旧!AN$264:'コントロールシート旧'!AN$267),"",INDEX(コントロールシート旧!$H264:'コントロールシート旧'!$L267,MATCH(ROW(コントロールシート旧!A1),コントロールシート旧!$AN264:$AN267,0),COLUMN(コントロールシート旧!A1))) -> その他 | F42: =IF(ROW(コントロールシート旧!A1)>MAX(コントロールシート旧!AN$270:'コントロールシート旧'!AN$271),"",INDEX(コントロールシート旧!$H270:'コントロールシート旧'!$L271,MATCH(ROW(コントロールシート旧!A1),コントロールシート旧!$AN270:$AN271,0),COLUMN(コントロールシート旧!A1)))
B43: =IF(ROW(コントロールシート旧!A2)>MAX(コントロールシート旧!AN$239:'コントロールシート旧'!AN$244),"",INDEX(コントロールシート旧!$H240:'コントロールシート旧'!$L245,MATCH(ROW(コントロールシート旧!A2),コントロールシート旧!$AN240:'コントロールシート旧'!$AN245,0),COLUMN(コントロールシート旧!A2))) -> 水道 | C43: =IF(ROW(コントロールシート旧!A2)>MAX(コントロールシート旧!AN$248:'コントロールシート旧'!AN$250),"",INDEX(コントロールシート旧!$H249:'コントロールシート旧'!$L251,MATCH(ROW(コントロールシート旧!A2),コントロールシート旧!$AN249:'コントロールシート旧'!$AN251,0),COLUMN(コントロールシート旧!A2))) | D43: =IF(ROW(コントロールシート旧!A2)>MAX(コントロールシート旧!AN$252:'コントロールシート旧'!AN$262),"",INDEX(コントロールシート旧!$H253:'コントロールシート旧'!$L263,MATCH(ROW(コントロールシート旧!A2),コントロールシート旧!$AN253:$AN263,0),COLUMN(コントロールシート旧!A2))) -> 調理場 | E43: =IF(ROW(コントロールシート旧!A2)>MAX(コントロールシート旧!AN$264:'コントロールシート旧'!AN$267),"",INDEX(コントロールシート旧!$H265:'コントロールシート旧'!$L268,MATCH(ROW(コントロールシート旧!A2),コントロールシート旧!$AN265:$AN268,0),COLUMN(コントロールシート旧!A2))) -> 顧客情報 | F43: =IF(ROW(コントロールシート旧!A2)>MAX(コントロールシート旧!AN$270:'コントロールシート旧'!AN$271),"",INDEX(コントロールシート旧!$H271:'コントロールシート旧'!$L272,MATCH(ROW(コントロールシート旧!A2),コントロールシート旧!$AN271:$AN272,0),COLUMN(コントロールシート旧!A2)))
B44: =IF(ROW(コントロールシート旧!A3)>MAX(コントロールシート旧!AN$239:'コントロールシート旧'!AN$244),"",INDEX(コントロールシート旧!$H241:'コントロールシート旧'!$L246,MATCH(ROW(コントロールシート旧!A3),コントロールシート旧!$AN241:'コントロールシート旧'!$AN246,0),COLUMN(コントロールシート旧!A3))) | C44: =IF(ROW(コントロールシート旧!A3)>MAX(コントロールシート旧!AN$248:'コントロールシート旧'!AN$250),"",INDEX(コントロールシート旧!$H250:'コントロールシート旧'!$L252,MATCH(ROW(コントロールシート旧!A3),コントロールシート旧!$AN250:'コントロールシート旧'!$AN252,0),COLUMN(コントロールシート旧!A3))) | D44: =IF(ROW(コントロールシート旧!A3)>MAX(コントロールシート旧!AN$252:'コントロールシート旧'!AN$262),"",INDEX(コントロールシート旧!$H254:'コントロールシート旧'!$L264,MATCH(ROW(コントロールシート旧!A3),コントロールシート旧!$AN254:$AN264,0),COLUMN(コントロールシート旧!A3))) -> 備品 | E44: =IF(ROW(コントロールシート旧!A3)>MAX(コントロールシート旧!AN$264:'コントロールシート旧'!AN$267),"",INDEX(コントロールシート旧!$H266:'コントロールシート旧'!$L269,MATCH(ROW(コントロールシート旧!A3),コントロールシート旧!$AN266:$AN269,0),COLUMN(コントロールシート旧!A3))) | F44: =IF(ROW(コントロールシート旧!A3)>MAX(コントロールシート旧!AN$270:'コントロールシート旧'!AN$271),"",INDEX(コントロールシート旧!$H272:'コントロールシート旧'!$L273,MATCH(ROW(コントロールシート旧!A3),コントロールシート旧!$AN272:$AN273,0),COLUMN(コントロールシート旧!A3)))
B45: =IF(ROW(コントロールシート旧!A4)>MAX(コントロールシート旧!AN$239:'コントロールシート旧'!AN$244),"",INDEX(コントロールシート旧!$H242:'コントロールシート旧'!$M247,MATCH(ROW(コントロールシート旧!A4),コントロールシート旧!$AN242:'コントロールシート旧'!$AN247,0),COLUMN(コントロールシート旧!A4))) | C45: =IF(ROW(コントロールシート旧!A4)>MAX(コントロールシート旧!AN$248:'コントロールシート旧'!AN$250),"",INDEX(コントロールシート旧!$H251:'コントロールシート旧'!$L253,MATCH(ROW(コントロールシート旧!A4),コントロールシート旧!$AN251:'コントロールシート旧'!$AN253,0),COLUMN(コントロールシート旧!A4))) | D45: =IF(ROW(コントロールシート旧!A4)>MAX(コントロールシート旧!AN$252:'コントロールシート旧'!AN$262),"",INDEX(コントロールシート旧!$H255:'コントロールシート旧'!$L265,MATCH(ROW(コントロールシート旧!A4),コントロールシート旧!$AN255:$AN265,0),COLUMN(コントロールシート旧!A4))) -> 原材料（給食） | E45: =IF(ROW(コントロールシート旧!A4)>MAX(コントロールシート旧!AN$264:'コントロールシート旧'!AN$267),"",INDEX(コントロールシート旧!$H267:'コントロールシート旧'!$L270,MATCH(ROW(コントロールシート旧!A4),コントロールシート旧!$AN267:$AN270,0),COLUMN(コントロールシート旧!A4))) | F45: =IF(ROW(コントロールシート旧!A4)>MAX(コントロールシート旧!AN$270:'コントロールシート旧'!AN$271),"",INDEX(コントロールシート旧!$H273:'コントロールシート旧'!$L274,MATCH(ROW(コントロールシート旧!A4),コントロールシート旧!$AN273:$AN274,0),COLUMN(コントロールシート旧!A4)))
B46: =IF(ROW(コントロールシート旧!A5)>MAX(コントロールシート旧!AN$239:'コントロールシート旧'!AN$244),"",INDEX(コントロールシート旧!$H243:'コントロールシート旧'!$L248,MATCH(ROW(コントロールシート旧!A5),コントロールシート旧!$AN243:'コントロールシート旧'!$AN248,0),COLUMN(コントロールシート旧!A5))) | C46: =IF(ROW(コントロールシート旧!A5)>MAX(コントロールシート旧!AN$248:'コントロールシート旧'!AN$250),"",INDEX(コントロールシート旧!$H252:'コントロールシート旧'!$L254,MATCH(ROW(コントロールシート旧!A5),コントロールシート旧!$AN252:'コントロールシート旧'!$AN254,0),COLUMN(コントロールシート旧!A5))) | D46: =IF(ROW(コントロールシート旧!A5)>MAX(コントロールシート旧!AN$252:'コントロールシート旧'!AN$262),"",INDEX(コントロールシート旧!$H256:'コントロールシート旧'!$L266,MATCH(ROW(コントロールシート旧!A5),コントロールシート旧!$AN256:$AN266,0),COLUMN(コントロールシート旧!A5))) | E46: =IF(ROW(コントロールシート旧!A5)>MAX(コントロールシート旧!AN$264:'コントロールシート旧'!AN$267),"",INDEX(コントロールシート旧!$H268:'コントロールシート旧'!$L271,MATCH(ROW(コントロールシート旧!A5),コントロールシート旧!$AN268:$AN271,0),COLUMN(コントロールシート旧!A5))) | F46: =IF(ROW(コントロールシート旧!A5)>MAX(コントロールシート旧!AN$270:'コントロールシート旧'!AN$271),"",INDEX(コントロールシート旧!$H274:'コントロールシート旧'!$L275,MATCH(ROW(コントロールシート旧!A5),コントロールシート旧!$AN274:$AN275,0),COLUMN(コントロールシート旧!A5)))
B47: =IF(ROW(コントロールシート旧!A6)>MAX(コントロールシート旧!AN$239:'コントロールシート旧'!AN$244),"",INDEX(コントロールシート旧!$H244:'コントロールシート旧'!$L249,MATCH(ROW(コントロールシート旧!A6),コントロールシート旧!$AN244:'コントロールシート旧'!$AN249,0),COLUMN(コントロールシート旧!A6))) | C47: =IF(ROW(コントロールシート旧!A6)>MAX(コントロールシート旧!AN$248:'コントロールシート旧'!AN$250),"",INDEX(コントロールシート旧!$H253:'コントロールシート旧'!$L255,MATCH(ROW(コントロールシート旧!A6),コントロールシート旧!$AN253:'コントロールシート旧'!$AN255,0),COLUMN(コントロールシート旧!A6))) | D47: =IF(ROW(コントロールシート旧!A6)>MAX(コントロールシート旧!AN$252:'コントロールシート旧'!AN$262),"",INDEX(コントロールシート旧!$H257:'コントロールシート旧'!$L267,MATCH(ROW(コントロールシート旧!A6),コントロールシート旧!$AN257:$AN267,0),COLUMN(コントロールシート旧!A6))) | E47: =IF(ROW(コントロールシート旧!A6)>MAX(コントロールシート旧!AN$264:'コントロールシート旧'!AN$267),"",INDEX(コントロールシート旧!$H269:'コントロールシート旧'!$L272,MATCH(ROW(コントロールシート旧!A6),コントロールシート旧!$AN269:$AN272,0),COLUMN(コントロールシート旧!A6))) | F47: =IF(ROW(コントロールシート旧!A6)>MAX(コントロールシート旧!AN$270:'コントロールシート旧'!AN$271),"",INDEX(コントロールシート旧!$H275:'コントロールシート旧'!$L276,MATCH(ROW(コントロールシート旧!A6),コントロールシート旧!$AN275:$AN276,0),COLUMN(コントロールシート旧!A6)))
B48: =IF(ROW(コントロールシート旧!A7)>MAX(コントロールシート旧!AN$239:'コントロールシート旧'!AN$244),"",INDEX(コントロールシート旧!$H245:'コントロールシート旧'!$L250,MATCH(ROW(コントロールシート旧!A7),コントロールシート旧!$AN245:'コントロールシート旧'!$AN250,0),COLUMN(コントロールシート旧!A7))) | C48: =IF(ROW(コントロールシート旧!A7)>MAX(コントロールシート旧!AN$248:'コントロールシート旧'!AN$250),"",INDEX(コントロールシート旧!$H254:'コントロールシート旧'!$L256,MATCH(ROW(コントロールシート旧!A7),コントロールシート旧!$AN254:'コントロールシート旧'!$AN256,0),COLUMN(コントロールシート旧!A7))) | D48: =IF(ROW(コントロールシート旧!A7)>MAX(コントロールシート旧!AN$252:'コントロールシート旧'!AN$262),"",INDEX(コントロールシート旧!$H259:'コントロールシート旧'!$L268,MATCH(ROW(コントロールシート旧!A7),コントロールシート旧!$AN259:$AN268,0),COLUMN(コントロールシート旧!A7))) | E48: =IF(ROW(コントロールシート旧!A7)>MAX(コントロールシート旧!AN$264:'コントロールシート旧'!AN$267),"",INDEX(コントロールシート旧!$H270:'コントロールシート旧'!$L273,MATCH(ROW(コントロールシート旧!A7),コントロールシート旧!$AN270:$AN273,0),COLUMN(コントロールシート旧!A7))) | F48: =IF(ROW(コントロールシート旧!A7)>MAX(コントロールシート旧!AN$270:'コントロールシート旧'!AN$271),"",INDEX(コントロールシート旧!$H276:'コントロールシート旧'!$L277,MATCH(ROW(コントロールシート旧!A7),コントロールシート旧!$AN276:$AN277,0),COLUMN(コントロールシート旧!A7)))
B49: =IF(ROW(コントロールシート旧!A8)>MAX(コントロールシート旧!AN$239:'コントロールシート旧'!AN$244),"",INDEX(コントロールシート旧!$H246:'コントロールシート旧'!$L251,MATCH(ROW(コントロールシート旧!A8),コントロールシート旧!$AN246:'コントロールシート旧'!$AN251,0),COLUMN(コントロールシート旧!A8))) | C49: =IF(ROW(コントロールシート旧!A8)>MAX(コントロールシート旧!AN$248:'コントロールシート旧'!AN$250),"",INDEX(コントロールシート旧!$H255:'コントロールシート旧'!$L257,MATCH(ROW(コントロールシート旧!A8),コントロールシート旧!$AN255:'コントロールシート旧'!$AN257,0),COLUMN(コントロールシート旧!A8))) | D49: =IF(ROW(コントロールシート旧!A8)>MAX(コントロールシート旧!AN$252:'コントロールシート旧'!AN$262),"",INDEX(コントロールシート旧!$H260:'コントロールシート旧'!$L269,MATCH(ROW(コントロールシート旧!A8),コントロールシート旧!$AN260:$AN269,0),COLUMN(コントロールシート旧!A8))) | E49: =IF(ROW(コントロールシート旧!A8)>MAX(コントロールシート旧!AN$264:'コントロールシート旧'!AN$267),"",INDEX(コントロールシート旧!$H271:'コントロールシート旧'!$L274,MATCH(ROW(コントロールシート旧!A8),コントロールシート旧!$AN271:$AN274,0),COLUMN(コントロールシート旧!A8))) | F49: =IF(ROW(コントロールシート旧!A8)>MAX(コントロールシート旧!AN$270:'コントロールシート旧'!AN$271),"",INDEX(コントロールシート旧!$H277:'コントロールシート旧'!$L278,MATCH(ROW(コントロールシート旧!A8),コントロールシート旧!$AN277:$AN278,0),COLUMN(コントロールシート旧!A8)))
B50: =IF(ROW(コントロールシート旧!A9)>MAX(コントロールシート旧!AN$239:'コントロールシート旧'!AN$244),"",INDEX(コントロールシート旧!$H247:'コントロールシート旧'!$L252,MATCH(ROW(コントロールシート旧!A9),コントロールシート旧!$AN247:'コントロールシート旧'!$AN252,0),COLUMN(コントロールシート旧!A9))) | C50: =IF(ROW(コントロールシート旧!A9)>MAX(コントロールシート旧!AN$248:'コントロールシート旧'!AN$250),"",INDEX(コントロールシート旧!$H256:'コントロールシート旧'!$L259,MATCH(ROW(コントロールシート旧!A9),コントロールシート旧!$AN256:'コントロールシート旧'!$AN259,0),COLUMN(コントロールシート旧!A9))) | D50: =IF(ROW(コントロールシート旧!A9)>MAX(コントロールシート旧!AN$252:'コントロールシート旧'!AN$262),"",INDEX(コントロールシート旧!$H261:'コントロールシート旧'!$L270,MATCH(ROW(コントロールシート旧!A9),コントロールシート旧!$AN261:$AN270,0),COLUMN(コントロールシート旧!A9))) | E50: =IF(ROW(コントロールシート旧!A9)>MAX(コントロールシート旧!AN$264:'コントロールシート旧'!AN$267),"",INDEX(コントロールシート旧!$H272:'コントロールシート旧'!$L275,MATCH(ROW(コントロールシート旧!A9),コントロールシート旧!$AN272:$AN275,0),COLUMN(コントロールシート旧!A9))) | F50: =IF(ROW(コントロールシート旧!A9)>MAX(コントロールシート旧!AN$270:'コントロールシート旧'!AN$271),"",INDEX(コントロールシート旧!$H278:'コントロールシート旧'!$L279,MATCH(ROW(コントロールシート旧!A9),コントロールシート旧!$AN278:$AN279,0),COLUMN(コントロールシート旧!A9)))
B51: =IF(ROW(コントロールシート旧!A21)>MAX(コントロールシート旧!AN$239:'コントロールシート旧'!AN$244),"",INDEX(コントロールシート旧!$H248:'コントロールシート旧'!$L253,MATCH(ROW(コントロールシート旧!A21),コントロールシート旧!$AN248:'コントロールシート旧'!$AN253,0),COLUMN(コントロールシート旧!A21))) | C51: =IF(ROW(コントロールシート旧!A21)>MAX(コントロールシート旧!AN$248:'コントロールシート旧'!AN$250),"",INDEX(コントロールシート旧!$H257:'コントロールシート旧'!$L260,MATCH(ROW(コントロールシート旧!A21),コントロールシート旧!$AN257:'コントロールシート旧'!$AN260,0),COLUMN(コントロールシート旧!A21))) | D51: =IF(ROW(コントロールシート旧!A21)>MAX(コントロールシート旧!AN$252:'コントロールシート旧'!AN$262),"",INDEX(コントロールシート旧!$H262:'コントロールシート旧'!$L271,MATCH(ROW(コントロールシート旧!A21),コントロールシート旧!$AN262:$AN271,0),COLUMN(コントロールシート旧!A21))) | E51: =IF(ROW(コントロールシート旧!A21)>MAX(コントロールシート旧!AN$264:'コントロールシート旧'!AN$267),"",INDEX(コントロールシート旧!$H273:'コントロールシート旧'!$L276,MATCH(ROW(コントロールシート旧!A21),コントロールシート旧!$AN273:$AN276,0),COLUMN(コントロールシート旧!A21))) | F51: =IF(ROW(コントロールシート旧!A21)>MAX(コントロールシート旧!AN$270:'コントロールシート旧'!AN$271),"",INDEX(コントロールシート旧!$H279:'コントロールシート旧'!$L280,MATCH(ROW(コントロールシート旧!A21),コントロールシート旧!$AO279:$AO280,0),COLUMN(コントロールシート旧!A21)))
B52: =IF(ROW(コントロールシート旧!A22)>MAX(コントロールシート旧!AN$239:'コントロールシート旧'!AN$244),"",INDEX(コントロールシート旧!$H249:'コントロールシート旧'!$L254,MATCH(ROW(コントロールシート旧!A22),コントロールシート旧!$AN249:'コントロールシート旧'!$AN254,0),COLUMN(コントロールシート旧!A22))) | C52: =IF(ROW(コントロールシート旧!A22)>MAX(コントロールシート旧!AN$248:'コントロールシート旧'!AN$250),"",INDEX(コントロールシート旧!$H258:'コントロールシート旧'!$L261,MATCH(ROW(コントロールシート旧!A22),コントロールシート旧!$AN258:'コントロールシート旧'!$AN261,0),COLUMN(コントロールシート旧!A22))) | D52: =IF(ROW(コントロールシート旧!A22)>MAX(コントロールシート旧!AN$252:'コントロールシート旧'!AN$262),"",INDEX(コントロールシート旧!$H263:'コントロールシート旧'!$L272,MATCH(ROW(コントロールシート旧!A22),コントロールシート旧!$AN263:$AN272,0),COLUMN(コントロールシート旧!A22))) | E52: =IF(ROW(コントロールシート旧!A22)>MAX(コントロールシート旧!AN$264:'コントロールシート旧'!AN$267),"",INDEX(コントロールシート旧!$H274:'コントロールシート旧'!$L277,MATCH(ROW(コントロールシート旧!A22),コントロールシート旧!$AN274:$AN277,0),COLUMN(コントロールシート旧!A22))) | F52: =IF(ROW(コントロールシート旧!A22)>MAX(コントロールシート旧!AN$270:'コントロールシート旧'!AN$271),"",INDEX(コントロールシート旧!$H280:'コントロールシート旧'!$L281,MATCH(ROW(コントロールシート旧!A22),コントロールシート旧!$AO280:$AO281,0),COLUMN(コントロールシート旧!A22)))
B53: =IF(ROW(コントロールシート旧!A23)>MAX(コントロールシート旧!AN$239:'コントロールシート旧'!AN$244),"",INDEX(コントロールシート旧!$H250:'コントロールシート旧'!$L255,MATCH(ROW(コントロールシート旧!A23),コントロールシート旧!$AN250:'コントロールシート旧'!$AN255,0),COLUMN(コントロールシート旧!A23))) | C53: =IF(ROW(コントロールシート旧!A23)>MAX(コントロールシート旧!AN$248:'コントロールシート旧'!AN$250),"",INDEX(コントロールシート旧!$H259:'コントロールシート旧'!$L262,MATCH(ROW(コントロールシート旧!A23),コントロールシート旧!$AN259:'コントロールシート旧'!$AN262,0),COLUMN(コントロールシート旧!A23))) | D53: =IF(ROW(コントロールシート旧!A23)>MAX(コントロールシート旧!AN$252:'コントロールシート旧'!AN$262),"",INDEX(コントロールシート旧!$H264:'コントロールシート旧'!$L273,MATCH(ROW(コントロールシート旧!A23),コントロールシート旧!$AN264:$AN273,0),COLUMN(コントロールシート旧!A23))) | E53: =IF(ROW(コントロールシート旧!A23)>MAX(コントロールシート旧!AN$264:'コントロールシート旧'!AN$267),"",INDEX(コントロールシート旧!$H275:'コントロールシート旧'!$L278,MATCH(ROW(コントロールシート旧!A23),コントロールシート旧!$AN275:$AN278,0),COLUMN(コントロールシート旧!A23))) | F53: =IF(ROW(コントロールシート旧!A23)>MAX(コントロールシート旧!AN$270:'コントロールシート旧'!AN$271),"",INDEX(コントロールシート旧!$H281:'コントロールシート旧'!$L282,MATCH(ROW(コントロールシート旧!A23),コントロールシート旧!$AO281:$AO282,0),COLUMN(コントロールシート旧!A23)))
